BEGIN:VCALENDAR
VERSION:2.0
PRODID:-//Graduate Student Association - ECPv6.7.0//NONSGML v1.0//EN
CALSCALE:GREGORIAN
METHOD:PUBLISH
X-ORIGINAL-URL:https://gsa.rutgers.edu
X-WR-CALDESC:Events for Graduate Student Association
REFRESH-INTERVAL;VALUE=DURATION:PT1H
X-Robots-Tag:noindex
X-PUBLISHED-TTL:PT1H
BEGIN:VTIMEZONE
TZID:UTC
BEGIN:STANDARD
TZOFFSETFROM:+0000
TZOFFSETTO:+0000
TZNAME:UTC
DTSTART:20220101T000000
END:STANDARD
END:VTIMEZONE
BEGIN:VEVENT
DTSTART;TZID=UTC:20220401T170000
DTEND;TZID=UTC:20220401T190000
DTSTAMP:20260418T212728
CREATED:20220314T134056Z
LAST-MODIFIED:20220314T135844Z
UID:1983-1648832400-1648839600@gsa.rutgers.edu
SUMMARY:Distinguished Speaker Series Lecture - "Designing an Era: Vicente Rojo’s Role in Mexican Culture" by Cuauhtémoc Medina
DESCRIPTION:Cuauhtémoc Medina \nDesigning an Era: Vicente Rojo’s Role in Mexican Culture \nRegistration Link: https://bit.ly/3I4mppE \nMexicans from the second half of the 20th century were likely to have found a common element in the identity of the posters\, book covers and cultural supplements and magazines they consumed: most of them were likely to have been designed by the same hand: painter\, designer and editor Vicente Rojo (1932-2021). Few times in history\, a single person has been so influential in creating the visual culture of an era\, as Rojo was for Mexican culture. Vicente Rojo\, a Catalan emigré that moved to Mexico in 1949 escaping from Franco’s dictatorship in Spain\, conceived graphic design as a form of cultural service\, radically opposed to his devotion to abstract painting that he understood as a radically non-committed and personal practice. This talk will examine Vicente Rojo´s leading role as the provider of an aesthetic semblance for dominant Mexican modern culture\, the distant dialogue between his painting and design\, with particular emphasis in his artist books collaborations with writers such as Octavio Paz\, José Emilio Pacheco or José Miguel Ullan. \nCuauhtémoc Medina (Mexico City\, December 5 1965) Art critic\, curator and historian\, holds a Ph.D. in History and Theory of Art from the University of Essex in Britain. Since 1993 he has been a full time researcher at the Instituto de Investigaciones Estéticas at the National Autonomous University of Mexico (UNAM) and between 2002 and 2008 was the first Associate Curator of Art Latin American Collections at the Tate Modern. He is currently Chief Curator at the MUAC Museum in Mexico city. \nIn 2012\, Medina was Head Curator of the Manifesta 9 Biennial in Genk\, Belgium\, titled The Deep of the Modern\, in association with Katerina Gregos and Dawn Ades. In 2018 he was chief curator of the 12th Shanghai Biennial titled “Progress. Art in the age of historical ambivalence” at the Power Station of Art. \nIn 2012 he became the sixth recipient of the Walter Hopps Award for Curatorial Achievement of the Menil Foundation. Among many publications he has recently published a collection of his essays on Mexican art titled: Abuso Mutuo (Mutual Abuse)\, RM and Cubo Blanco\, 2017 and the book Olinka: El sueño del Dr. Atl in 2019.
URL:https://gsa.rutgers.edu/event/distinguished-speaker-series-lecture-designing-an-era-vicente-rojos-role-in-mexican-culture-by-cuauhtemoc-medina/
LOCATION:Zoom
CATEGORIES:GSO Hosted
END:VEVENT
BEGIN:VEVENT
DTSTART;TZID=UTC:20220404T190000
DTEND;TZID=UTC:20220404T200000
DTSTAMP:20260418T212728
CREATED:20220305T161608Z
LAST-MODIFIED:20220404T131339Z
UID:1933-1649098800-1649102400@gsa.rutgers.edu
SUMMARY:GSA Council Meeting: April 2022
DESCRIPTION:Council Meeting for April will be held on April 4th\, 2022 at 7 pm via Zoom. The Zoom link will be shared on GetInvolved with all GSA members. If any GSO is not a member of GSA on GetInvolved yet\, they are requested to do so. For any questions\, please email events@gsa.rutgers.edu \n  \nAGENDA: \n\nGuest: Emmet von Stackelberg (Rutgers AAUP-AFT)\nGuest: Amanda Liyanaarachchi (Election Commissioner)\nGSA Elections 2022-23\nReport on the State of GSA\nUpdates from the Senate\nGSO Announcements\nAny Other Business\nAdjournment\n\n 
URL:https://gsa.rutgers.edu/event/gsa-council-meeting-april-2022/
LOCATION:Zoom
CATEGORIES:Council Meeting,GSA Hosted
END:VEVENT
BEGIN:VEVENT
DTSTART;TZID=UTC:20220405T150000
DTEND;TZID=UTC:20220405T170000
DTSTAMP:20260418T212728
CREATED:20220404T130407Z
LAST-MODIFIED:20220404T130407Z
UID:2068-1649170800-1649178000@gsa.rutgers.edu
SUMMARY:Queer Grad Student Social
DESCRIPTION:Come decorate a flowerpot and plant a flower to prepare for spring! The event will be held in-person at SJE (17 Bartlett St on the College Ave Campus) on April 5 at 3 pm. Register for the event at go.rutgers.edu/QueerGradSocial
URL:https://gsa.rutgers.edu/event/queer-grad-student-social-2/
LOCATION:17 Bartlett St\, College Ave Campus\, 17 Bartlett Street\, New Brunswick\, United States
CATEGORIES:GSO Hosted
ORGANIZER;CN="SJE":MAILTO:sje@rutgers.edu
END:VEVENT
BEGIN:VEVENT
DTSTART;TZID=UTC:20220406T080000
DTEND;TZID=UTC:20220406T090000
DTSTAMP:20260418T212728
CREATED:20220302T174041Z
LAST-MODIFIED:20220302T174106Z
UID:1919-1649232000-1649235600@gsa.rutgers.edu
SUMMARY:GSA Executive Council Office Hours
DESCRIPTION:Feel free to drop in any time to speak with a member of the Executive Council about whats on your mind! \n  \nGSA Executive Office Hours \nLocation: https://rutgers.zoom.us/j/96047342171 \nTopic: GSA Executive Office Hours\nTime: This is a recurring meeting Meet anytime \nJoin Zoom Meeting\nhttps://rutgers.zoom.us/j/96047342171 \nJoin by SIP\n96047342171@zoomcrc.com \nMeeting ID: 960 4734 2171\nPassword: GSAexecs\nOne tap mobile\n+13126266799\,\,96047342171# US (Chicago)\n+16465588656\,\,96047342171# US (New York) \nJoin By Phone\n+1 312 626 6799 US (Chicago)\n+1 646 558 8656 US (New York)\n+1 301 715 8592 US (Washington DC)\n+1 346 248 7799 US (Houston)\n+1 669 900 9128 US (San Jose)\n+1 253 215 8782 US (Tacoma)\nMeeting ID: 960 4734 2171\nFind your local number: https://rutgers.zoom.us/u/acXVOWhHxh \nJoin by Skype for Business\nhttps://rutgers.zoom.us/skype/96047342171
URL:https://gsa.rutgers.edu/event/gsa-executive-council-office-hours-18/
LOCATION:Zoom
CATEGORIES:Discussion,GSA Hosted
END:VEVENT
BEGIN:VEVENT
DTSTART;TZID=UTC:20220406T090000
DTEND;TZID=UTC:20220406T110000
DTSTAMP:20260418T212728
CREATED:20220328T134118Z
LAST-MODIFIED:20220328T134119Z
UID:2026-1649235600-1649242800@gsa.rutgers.edu
SUMMARY:GSA Breakfast and Coffee Mixer
DESCRIPTION:Join GSA and your graduate peers for a bagel breakfast and coffee mixer to de-stress during Graduate and Professional Appreciation Week. The mixer is at the BME building from 9am to 11am on Wednesday April 6th.  \nQuestions? Email: ec@gsa.rutgers.edu \nPlease RSVP!
URL:https://gsa.rutgers.edu/event/gsa-breakfast-and-coffee-mixer/
LOCATION:BME Building\, 599 Taylor Rd\, Piscataway\, NJ\, 08854\, United States
CATEGORIES:GSA Hosted
END:VEVENT
BEGIN:VEVENT
DTSTART;TZID=UTC:20220407T183000
DTEND;TZID=UTC:20220407T200000
DTSTAMP:20260418T212728
CREATED:20220328T134359Z
LAST-MODIFIED:20220328T134400Z
UID:2029-1649356200-1649361600@gsa.rutgers.edu
SUMMARY:GSA Paint Knight
DESCRIPTION:Join GSA and Friends for a relaxing night of painting (by numbers)! Whether you’re Bob Ross or Rob Boss\, you too can paint a beautiful picture with the help of lines and directions. Event held via Zoom\, so clear off your dirtiest table and grab your favorite beverage\, because it’s time to paint!  \nQuestions? Email ec@gsa.rutgers.edu \nPlease RSVP!
URL:https://gsa.rutgers.edu/event/gsa-paint-knight/
LOCATION:Zoom
CATEGORIES:GSA Hosted
END:VEVENT
BEGIN:VEVENT
DTSTART;TZID=UTC:20220408T170000
DTEND;TZID=UTC:20220408T190000
DTSTAMP:20260418T212728
CREATED:20220328T134639Z
LAST-MODIFIED:20220328T134639Z
UID:2032-1649437200-1649444400@gsa.rutgers.edu
SUMMARY:GSA Presents: Foods of the World
DESCRIPTION:Have you wanted to travel off and try out foods from different parts of the world? Well\, while the pandemic has dampened our travel plans\, we still have plenty of great options to try various cuisines\, right here at New Brunswick! Come enjoy foods from different parts of the world all prepared and catered by a carefully curated list of local restaurants. We will be accomodating various dietary restrictions.  \nQuestions? Email: ec@gsa.rutgers.edu \nPlease RSVP!
URL:https://gsa.rutgers.edu/event/gsa-presents-foods-of-the-world/
LOCATION:Graduate Student Lounge\, 126 College Ave\, New Brunswick\, NJ\, 08901\, United States
CATEGORIES:GSA Hosted
END:VEVENT
BEGIN:VEVENT
DTSTART;TZID=UTC:20220409T090000
DTEND;TZID=UTC:20220409T120000
DTSTAMP:20260418T212728
CREATED:20220328T135006Z
LAST-MODIFIED:20220328T135007Z
UID:2035-1649494800-1649505600@gsa.rutgers.edu
SUMMARY:GSA Presents: Hiking
DESCRIPTION:Have you recently been told to “take a hike”? Well\, the GSA has your back! Join GSA for a hike on Rutgers’ own Livingston trail on Saturday\, April 9th from 9am-12pm. Here you can meet other graduate students\, enjoy the weather\, and get those steps in! Light snacks and water will be provided. Be sure to wear comfortable footwear and dress for the weather. We hope to see you there!  \nQuestions? Email: ec@gsa.rutgers.edu \nPlease RSVP!
URL:https://gsa.rutgers.edu/event/gsa-presents-hiking/
LOCATION:Livingston Trail\, Rutgers Ecological Preserve\, 83 Rockafeller Rd\, Piscataway\, NJ\, 08854\, United States
CATEGORIES:GSA Hosted
END:VEVENT
BEGIN:VEVENT
DTSTART;TZID=UTC:20220411T100000
DTEND;TZID=UTC:20220411T150000
DTSTAMP:20260418T212728
CREATED:20220328T135214Z
LAST-MODIFIED:20220328T193625Z
UID:2039-1649671200-1649689200@gsa.rutgers.edu
SUMMARY:GSA Headshots
DESCRIPTION:Are you graduating soon and looking for jobs? Do you need to spice up your LinkedIn profile (no\, not like that)? Come get professional headshots for all of your career & professional development needs! Register for a time slot here and arrive promptly at your designated time dressed in business professional attire. At no cost to you – students will be given a professional\, retouched portrait for their own use. \nUPDATE: The registrations for this event are FULL. We will have this event again in the future\, keep an eye out for it.  \nQuestions? Email: ec@gsa.rutgers.edu \nPlease RSVP!
URL:https://gsa.rutgers.edu/event/gsa-headshots/
LOCATION:Graduate Student Lounge\, 126 College Ave\, New Brunswick\, NJ\, 08901\, United States
CATEGORIES:GSA Hosted
END:VEVENT
BEGIN:VEVENT
DTSTART;TZID=UTC:20220411T170000
DTEND;TZID=UTC:20220411T183000
DTSTAMP:20260418T212728
CREATED:20220328T135703Z
LAST-MODIFIED:20220328T135704Z
UID:2042-1649696400-1649701800@gsa.rutgers.edu
SUMMARY:GSA Townhall
DESCRIPTION:The GSA invites you to our Resources and Mental Health Town Hall! Joined by Deans\, Vice Chancellors\, and representatives from VPVA\, CAPS\, OGSL\, and GSA\, this open-forum panel discussion seeks to understand the needs and concerns of the graduate community\, and share some resources available at Rutgers to address them. This is an important opportunity to inspire meaningful change to grad student life at Rutgers. Please pre-submit your questions here or ask live. Representatives from each GSO are strongly encouraged to attend and share these resources back with their organizations.  \nQuestions? Email: ec@gsa.rutgers.edu \nPlease RSVP!
URL:https://gsa.rutgers.edu/event/gsa-townhall/
LOCATION:Zoom
CATEGORIES:GSA Hosted
END:VEVENT
BEGIN:VEVENT
DTSTART;TZID=UTC:20220411T180000
DTEND;TZID=UTC:20220411T190000
DTSTAMP:20260418T212728
CREATED:20220407T162927Z
LAST-MODIFIED:20220411T142504Z
UID:2107-1649700000-1649703600@gsa.rutgers.edu
SUMMARY:RURare Inaugural Meeting
DESCRIPTION:RURare Inaugural Meeting: Are you interested in rare disease advocacy and education? Join us on Monday\, April 11th at 6 pm for our first official Rutgers Students for Rare Meeting via zoom. We’d love to see you there! #raredisease #rutgersgraduatestudents #rarediseaseadovacy #rutgershealthcare #rutgersstudents #studentsforrare\n\n\n\n\n\n\n\n\n\nzoom link: https://rutgers.zoom.us/j/92428676326?pwd=R2cxeTdPNVBHMHp2cUgwcHNUWlM2QT09
URL:https://gsa.rutgers.edu/event/rurare-inaugural-meeting/
LOCATION:NJ
CATEGORIES:GSO Hosted
ORGANIZER;CN="Rutgers Graduate Students for Rare NORD Chapter":MAILTO:rutgersnordchapter@gmail.com
END:VEVENT
BEGIN:VEVENT
DTSTART;TZID=UTC:20220412T190000
DTEND;TZID=UTC:20220412T200000
DTSTAMP:20260418T212728
CREATED:20220411T140543Z
LAST-MODIFIED:20220411T140544Z
UID:2119-1649790000-1649793600@gsa.rutgers.edu
SUMMARY:Rutgers Meditation Series - Success without Stress
DESCRIPTION:Please join the GSA for a Rutgers Meditation Series – Success without Stress! \n  \nOverview: This event focuses on exploring laws that govern the mind\, increase productivity\, and improve work-life balance with energizing breathwork and relaxing meditation along with an introduction to SKY Breath Meditation. The SKY program focuses on comprehensive well-being\, including mental and emotional resilience\, with the SKY breath mediation as one of its extensively researched cornerstone techniques. It is designed to help university students\, faculty\, and staff achieve their fullest potential\, and it has reached over 100 US universities\, including Purdue\, Stanford\, Yale\, and OSU. Please join us to learn what SKY can offer you and try breathwork & meditation led by Rutgers PhD student Pooja Bhalode! \n  \nDates & Time: Tuesdays and Thursdays 7 – 8 PM ET  \nLocation: Virtual via Zoom \nRSVP link: http://tiny.cc/RutgersMeditates \nGetInvolved link: https://rutgers.campuslabs.com/engage/event/8055947
URL:https://gsa.rutgers.edu/event/rutgers-meditation-series-success-without-stress/
LOCATION:Zoom
CATEGORIES:GSA Hosted
END:VEVENT
BEGIN:VEVENT
DTSTART;TZID=UTC:20220413T080000
DTEND;TZID=UTC:20220413T090000
DTSTAMP:20260418T212728
CREATED:20220302T174148Z
LAST-MODIFIED:20220302T174149Z
UID:1921-1649836800-1649840400@gsa.rutgers.edu
SUMMARY:GSA Executive Council Office Hours
DESCRIPTION:Feel free to drop in any time to speak with a member of the Executive Council about whats on your mind! \n  \nGSA Executive Office Hours \nLocation: https://rutgers.zoom.us/j/96047342171 \nTopic: GSA Executive Office Hours\nTime: This is a recurring meeting Meet anytime \nJoin Zoom Meeting\nhttps://rutgers.zoom.us/j/96047342171 \nJoin by SIP\n96047342171@zoomcrc.com \nMeeting ID: 960 4734 2171\nPassword: GSAexecs\nOne tap mobile\n+13126266799\,\,96047342171# US (Chicago)\n+16465588656\,\,96047342171# US (New York) \nJoin By Phone\n+1 312 626 6799 US (Chicago)\n+1 646 558 8656 US (New York)\n+1 301 715 8592 US (Washington DC)\n+1 346 248 7799 US (Houston)\n+1 669 900 9128 US (San Jose)\n+1 253 215 8782 US (Tacoma)\nMeeting ID: 960 4734 2171\nFind your local number: https://rutgers.zoom.us/u/acXVOWhHxh \nJoin by Skype for Business\nhttps://rutgers.zoom.us/skype/96047342171
URL:https://gsa.rutgers.edu/event/gsa-executive-council-office-hours-19/
LOCATION:Zoom
CATEGORIES:Discussion,GSA Hosted
END:VEVENT
BEGIN:VEVENT
DTSTART;TZID=UTC:20220416T133000
DTEND;TZID=UTC:20220416T153000
DTSTAMP:20260418T212728
CREATED:20220407T160133Z
LAST-MODIFIED:20220414T185743Z
UID:2097-1650115800-1650123000@gsa.rutgers.edu
SUMMARY:GSA Free Movie @ RU Cinema: Fantastic Beasts The Secrets of Dumbledore
DESCRIPTION:Watch the new Fantastic Beasts movie with unlimited popcorn and soda! \nPlease RSVP to get tickets. Limited spots. 1 guest limit. \n*Tickets will be distributed on Friday April 15th from 5pm-7pm in the GSL on first come first serve basis* \nAddress: GSL\, 126 College Ave (Behind Panera) \n 
URL:https://gsa.rutgers.edu/event/gsa-free-movie-ru-cinema-fantastic-beasts-the-secrets-of-dumbledore/
LOCATION:Rutgers Cinema\, 105 Joyce Kilmer Ave\, Piscataway\, NJ\, United States
CATEGORIES:GSA Hosted
END:VEVENT
BEGIN:VEVENT
DTSTART;TZID=UTC:20220420T080000
DTEND;TZID=UTC:20220420T090000
DTSTAMP:20260418T212728
CREATED:20220302T174240Z
LAST-MODIFIED:20220302T174241Z
UID:1923-1650441600-1650445200@gsa.rutgers.edu
SUMMARY:GSA Executive Council Office Hours
DESCRIPTION:Feel free to drop in any time to speak with a member of the Executive Council about whats on your mind! \n  \nGSA Executive Office Hours \nLocation: https://rutgers.zoom.us/j/96047342171 \nTopic: GSA Executive Office Hours\nTime: This is a recurring meeting Meet anytime \nJoin Zoom Meeting\nhttps://rutgers.zoom.us/j/96047342171 \nJoin by SIP\n96047342171@zoomcrc.com \nMeeting ID: 960 4734 2171\nPassword: GSAexecs\nOne tap mobile\n+13126266799\,\,96047342171# US (Chicago)\n+16465588656\,\,96047342171# US (New York) \nJoin By Phone\n+1 312 626 6799 US (Chicago)\n+1 646 558 8656 US (New York)\n+1 301 715 8592 US (Washington DC)\n+1 346 248 7799 US (Houston)\n+1 669 900 9128 US (San Jose)\n+1 253 215 8782 US (Tacoma)\nMeeting ID: 960 4734 2171\nFind your local number: https://rutgers.zoom.us/u/acXVOWhHxh \nJoin by Skype for Business\nhttps://rutgers.zoom.us/skype/96047342171
URL:https://gsa.rutgers.edu/event/gsa-executive-council-office-hours-20/
LOCATION:Zoom
CATEGORIES:Discussion,GSA Hosted
END:VEVENT
BEGIN:VEVENT
DTSTART;TZID=UTC:20220420T140000
DTEND;TZID=UTC:20220420T160000
DTSTAMP:20260418T212728
CREATED:20220411T141133Z
LAST-MODIFIED:20220411T141133Z
UID:2124-1650463200-1650470400@gsa.rutgers.edu
SUMMARY:Art History GSO In Conversation: Korean Textile Arts
DESCRIPTION:The AHGSO would like to present the talk\, “In Conversation: Korean Textile Arts” (4/20\, 2-4pm ET via Zoom)\, which brings together two good friends\, Youngmin Lee\, a Korean textile artist\, and Dr. Minjee Kim\, a researcher on Korean historical dress\, to discuss the intimate connections between production of hanbok and Korean textile arts such as bojagi. \nRegistration Link: https://rutgers.zoom.us/meeting/register/tJ0vfuysrD8pHdXxJkrVesQXMX0ryBv0sTUc
URL:https://gsa.rutgers.edu/event/art-history-gso-in-conversation-korean-textile-arts/
LOCATION:Zoom
CATEGORIES:GSO Hosted
END:VEVENT
BEGIN:VEVENT
DTSTART;TZID=UTC:20220422T100000
DTEND;TZID=UTC:20220422T180000
DTSTAMP:20260418T212728
CREATED:20220407T162604Z
LAST-MODIFIED:20220407T162604Z
UID:2103-1650621600-1650650400@gsa.rutgers.edu
SUMMARY:Translating Home: Views From the Diaspora\, the 12th Annual Art History Graduate Student Symposium
DESCRIPTION:Translating Home: Views From the Diaspora \n12th Annual Art History Graduate Student Symposium \nOrganized by the Rutgers University Art History Graduate Student Organization (AHGSO) and co-sponsored by the Global Asias Initiative \nSymposium Date: April 22nd \, 10:15am-6:00 pm via Zoom \nRegistration Link: https://rutgers.zoom.us/meeting/register/tJYof–prT8pGdRI2_zttrNGD1UnVcHHYA19  \nKeynote Speaker: Dr. Emily Hue \nThe concept of home is unstable\, bearing countless interpretations of physical and abstract places. Diasporic and transnational identities are particularly susceptible to the uneasy tension produced by slippages of stable meaning. Framed around both the abstract and material notion of home\, Translating Home: Views From the Diaspora aims to interpret practices that span borders\, fostering discussion that marks the complexity of real and lived experiences of those working in a transnational context.
URL:https://gsa.rutgers.edu/event/translating-home-views-from-the-diaspora-the-12th-annual-art-history-graduate-student-symposium/
LOCATION:Zoom
CATEGORIES:GSO Hosted
END:VEVENT
BEGIN:VEVENT
DTSTART;TZID=UTC:20220426T190000
DTEND;TZID=UTC:20220426T200000
DTSTAMP:20260418T212729
CREATED:20220418T144554Z
LAST-MODIFIED:20220418T144554Z
UID:2147-1650999600-1651003200@gsa.rutgers.edu
SUMMARY:DEI Event: "Gender in Society: Feminism" Workshop 
DESCRIPTION:April 26th – 7-8 pm\nLocation: Zoom\n\n\n\nThis workshop lead by Diversity Peer Educators from SJE will challenge beliefs around what feminism looks like\, who it is for\, and why it is important by looking at it through a critical lens. Students will partake in an engaging discussion on topics around feminism such as gender roles and expectations\, groups that have been historically left out of the feminist movement\, and how toxic masculinity and toxic femininity play into these perceptions. \nThis workshop will be held on Zoom on April 26th from 7-8pm. RSVP below for the zoom link. \n\n\n\nMore info and RSVP Link  – https://rutgers.campuslabs.com/engage/event/8059881
URL:https://gsa.rutgers.edu/event/dei-event-gender-in-society-feminism-workshop/
LOCATION:Zoom
CATEGORIES:GSA Hosted
END:VEVENT
BEGIN:VEVENT
DTSTART;TZID=UTC:20220427T080000
DTEND;TZID=UTC:20220427T090000
DTSTAMP:20260418T212729
CREATED:20220302T174332Z
LAST-MODIFIED:20220302T174332Z
UID:1925-1651046400-1651050000@gsa.rutgers.edu
SUMMARY:GSA Executive Council Office Hours
DESCRIPTION:Feel free to drop in any time to speak with a member of the Executive Council about whats on your mind! \n  \nGSA Executive Office Hours \nLocation: https://rutgers.zoom.us/j/96047342171 \nTopic: GSA Executive Office Hours\nTime: This is a recurring meeting Meet anytime \nJoin Zoom Meeting\nhttps://rutgers.zoom.us/j/96047342171 \nJoin by SIP\n96047342171@zoomcrc.com \nMeeting ID: 960 4734 2171\nPassword: GSAexecs\nOne tap mobile\n+13126266799\,\,96047342171# US (Chicago)\n+16465588656\,\,96047342171# US (New York) \nJoin By Phone\n+1 312 626 6799 US (Chicago)\n+1 646 558 8656 US (New York)\n+1 301 715 8592 US (Washington DC)\n+1 346 248 7799 US (Houston)\n+1 669 900 9128 US (San Jose)\n+1 253 215 8782 US (Tacoma)\nMeeting ID: 960 4734 2171\nFind your local number: https://rutgers.zoom.us/u/acXVOWhHxh \nJoin by Skype for Business\nhttps://rutgers.zoom.us/skype/96047342171
URL:https://gsa.rutgers.edu/event/gsa-executive-council-office-hours-21/
LOCATION:Zoom
CATEGORIES:Discussion,GSA Hosted
END:VEVENT
BEGIN:VEVENT
DTSTART;TZID=UTC:20220428T120000
DTEND;TZID=UTC:20220428T153000
DTSTAMP:20260418T212729
CREATED:20220411T141420Z
LAST-MODIFIED:20220411T141420Z
UID:2127-1651147200-1651159800@gsa.rutgers.edu
SUMMARY:Yoga in the Park - Featuring Dianne Bondy
DESCRIPTION:Join us for Yoga in the Park with Dianne Bondy on April 28th @ 12 PM at Deiner Park on the College Ave campus (Rain location: College Ave Gym) – Sign up now: https://go.rutgers.edu/ruyoga
URL:https://gsa.rutgers.edu/event/yoga-in-the-park-featuring-dianne-bondy/
LOCATION:College Ave Gym\, 130 College Ave\, New Brunswick\, NJ\, 08901\, United States
CATEGORIES:Public Events
END:VEVENT
END:VCALENDAR