BEGIN:VCALENDAR
VERSION:2.0
PRODID:-//Graduate Student Association - ECPv6.7.0//NONSGML v1.0//EN
CALSCALE:GREGORIAN
METHOD:PUBLISH
X-WR-CALNAME:Graduate Student Association
X-ORIGINAL-URL:https://gsa.rutgers.edu
X-WR-CALDESC:Events for Graduate Student Association
REFRESH-INTERVAL;VALUE=DURATION:PT1H
X-Robots-Tag:noindex
X-PUBLISHED-TTL:PT1H
BEGIN:VTIMEZONE
TZID:UTC
BEGIN:STANDARD
TZOFFSETFROM:+0000
TZOFFSETTO:+0000
TZNAME:UTC
DTSTART:20210101T000000
END:STANDARD
END:VTIMEZONE
BEGIN:VEVENT
DTSTART;TZID=UTC:20211201T080000
DTEND;TZID=UTC:20211201T090000
DTSTAMP:20260425T162134
CREATED:20211011T121700Z
LAST-MODIFIED:20211011T121701Z
UID:1174-1638345600-1638349200@gsa.rutgers.edu
SUMMARY:GSA Executive Council Office Hours
DESCRIPTION:Location: https://rutgers.zoom.us/j/93051669638 \nTopic: GSA Executive Office Hours \nTime: This is a recurring meeting Meet anytime \nJoin Zoom Meeting \nhttps://rutgers.zoom.us/j/93051669638 \nJoin by SIP \n93051669638@zoomcrc.com \nMeeting ID: 930 5166 9638 \nPassword: 457254 \nOne tap mobile \n+13126266799\,\,93051669638# US (Chicago) \n+16465588656\,\,93051669638# US (New York) \nJoin By Phone \n+1 312 626 6799 US (Chicago) \n+1 646 558 8656 US (New York) \n+1 301 715 8592 US (Washington DC) \n+1 346 248 7799 US (Houston) \n+1 669 900 9128 US (San Jose) \n+1 253 215 8782 US (Tacoma) \nMeeting ID: 930 5166 9638 \nFind your local number: https://rutgers.zoom.us/u/abccN3vtvI \nJoin by Skype for Business \nhttps://rutgers.zoom.us/skype/93051669638
URL:https://gsa.rutgers.edu/event/gsa-executive-council-office-hours-7/
LOCATION:NJ
CATEGORIES:Discussion,GSA Hosted
END:VEVENT
BEGIN:VEVENT
DTSTART;TZID=UTC:20211201T160000
DTEND;TZID=UTC:20211201T173000
DTSTAMP:20260425T162134
CREATED:20211104T170817Z
LAST-MODIFIED:20211104T170817Z
UID:1445-1638374400-1638379800@gsa.rutgers.edu
SUMMARY:Beyond the Game: Engaging Student-Athletes Around Social Justice Issues
DESCRIPTION:Wednesday\, December 1\, 2021\n3:00-4:30 PM Central Time (4:00-5:30 PM Eastern\, 2:00-3:30 PM Mountain\, 1:00-2:30 PM Pacific; convert other time zones here) \nFREE  |  Registration opens November 17\, 2021 \nLive captions and sign language interpretation were provided. Registration will close Tuesday\, November 30th\, at 4:30 PM Central Time\, or when capacity is reached. \n\nImportant Details for Registrants: \n\nThe Zoom link will be emailed the morning of the webinar.\nDownload the latest version of Zoom on your device BEFORE the webinar begins. Launch and sign into Zoom\, click on your profile picture (top right corner)\, and select Check for Updates.\nAll registrants will receive a recording approximately one week after the webinar.\nEmail ncorewebinars@ou.edu for assistance.\n\n  \nWebinar Description:\nIn recent years there has been a resurgence of activism on college campuses around various social issues\, thus increasing student-athletes’ efforts to utilize the visibility of their sport to bring attention to important societal issues. This unique climate of student activism and civic engagement provides athletic and campus staff and administrators with the opportunity to enhance the learning and development of student-athletes beyond the athletic realm. Through the examination of an instrumental case study exploring an educational leadership program designed to engage student-athletes around racial justice\, session participants will discover how one athletic department’s unique approach helped to enhance student-athletes’ learning and development while better equipping them to utilize their athletic platform to make a meaningful societal impact. This session should particularly benefit participants who are interested in the intersection of athletics\, social justice\, and the holistic learning and development of student-athletes. \n  \nPresenter:\n \nCourtney A. Gay\, Ph.D.\, Assistant Athletic Director – Diversity\, Equity\, and Inclusion\, University of Georgia Athletic Association \nDr. Courtney Gay serves as the Assistant Athletic Director for Diversity\, Equity\, and Inclusion at the University of Georgia (UGA). She is responsible for developing and implementing diversity\, equity\, and inclusion strategies for department performance in diversity and inclusive excellence. \nDr. Gay joined the UGA Athletic Association staff in October 2012 as an academic counselor. Prior to assuming her current role\, she served as the Associate Director/Diversity and Inclusion Strategist at the Rankin Smith\, Sr. Student-Athlete Academic Center. \nBefore beginning her tenure at UGA\, Dr. Gay gained community affairs and player development experience in roles with the Atlanta Braves\, Fort Worth Flyers (NBA G League)\, and the National Football League (NFL). \nA native of Houston\, Texas\, Dr. Gay earned a bachelor of journalism and a bachelor of arts from the University of Missouri\, a master of science in kinesiology with a focus in sport management from Texas A&M University\, and a doctorate in counseling and student personnel services (college student affairs administration) from the University of Georgia.
URL:https://gsa.rutgers.edu/event/beyond-the-game-engaging-student-athletes-around-social-justice-issues/
LOCATION:NJ
CATEGORIES:Public Events
END:VEVENT
BEGIN:VEVENT
DTSTART;TZID=UTC:20211201T170000
DTEND;TZID=UTC:20211201T190000
DTSTAMP:20260425T162134
CREATED:20211129T113859Z
LAST-MODIFIED:20211129T113859Z
UID:1534-1638378000-1638385200@gsa.rutgers.edu
SUMMARY:Letters to Your Congressperson
DESCRIPTION:Join SPAR for a hybrid workshop on December 1 to learn how to contact your congressperson! #SciencePolicy #ScienceCommunication \nRSVP here: bit.ly/3plKfW3 \nTwitter: SciPolRU \nInstagram: scipolru
URL:https://gsa.rutgers.edu/event/letters-to-your-congressperson/
LOCATION:NJ
CATEGORIES:GSO Hosted
END:VEVENT
BEGIN:VEVENT
DTSTART;TZID=UTC:20211201T190000
DTEND;TZID=UTC:20211201T203000
DTSTAMP:20260425T162134
CREATED:20211129T162716Z
LAST-MODIFIED:20211201T172149Z
UID:1544-1638385200-1638390600@gsa.rutgers.edu
SUMMARY:CANCELLED: GSA Rock Climbing @ College Ave Gym
DESCRIPTION:Join the GSA for a rock-climbing workout @ College Ave Gym (130 College Ave). \nLimited Spots. Please RSVP
URL:https://gsa.rutgers.edu/event/gsa-rock-climbing-college-ave-gym/
LOCATION:College Ave Recreation Center\, 130 College Ave\, New Brunswick\, NJ\, 08901\, United States
CATEGORIES:GSA Hosted
END:VEVENT
BEGIN:VEVENT
DTSTART;TZID=UTC:20211203T100000
DTEND;TZID=UTC:20211203T120000
DTSTAMP:20260425T162134
CREATED:20211019T140138Z
LAST-MODIFIED:20211019T140138Z
UID:1300-1638525600-1638532800@gsa.rutgers.edu
SUMMARY:GWP Writing Workshop
DESCRIPTION:
URL:https://gsa.rutgers.edu/event/gwp-writing-workshop/
LOCATION:NJ
CATEGORIES:Public Events,Workshop
END:VEVENT
BEGIN:VEVENT
DTSTART;TZID=UTC:20211206T180000
DTEND;TZID=UTC:20211206T190000
DTSTAMP:20260425T162134
CREATED:20211206T143321Z
LAST-MODIFIED:20211206T144656Z
UID:1557-1638813600-1638817200@gsa.rutgers.edu
SUMMARY:GSA Yoga & Meditation
DESCRIPTION:Join GSA for a session of yoga and guided meditation. Limited spots. Please RSVP \n 
URL:https://gsa.rutgers.edu/event/gsa-yoga-meditation-2/
LOCATION:Graduate Student Lounge\, 126 College Ave\, New Brunswick\, NJ\, 08901\, United States
CATEGORIES:GSA Hosted
END:VEVENT
BEGIN:VEVENT
DTSTART;TZID=UTC:20211206T190000
DTEND;TZID=UTC:20211206T200000
DTSTAMP:20260425T162134
CREATED:20211129T164154Z
LAST-MODIFIED:20211129T164154Z
UID:1548-1638817200-1638820800@gsa.rutgers.edu
SUMMARY:GSA Council Meeting: December 2021
DESCRIPTION:The format for the final GSA Council meeting of the semester (Dec 6th\, 7 PM) will be a little different. We will begin by recognizing the most recent GSA Awards recipients. Following this\, we will be doing a GSA Town Hall. As GSO leaders\, each of you is uniquely positioned to understand the struggles\, triumphs\, and issues that affect graduate students. We would like you to think critically about these things and how the GSA can act to improve the graduate student experience and support constituents to the best of our ability. Think about things like access\, advocacy\, networking\, and connections\, etc. You might also go back to your own GSO constitutions\, think about your missions\, how you have been implementing them\, and how GSA might be able to help you do this better in the future. All graduate students are welcome to express their concerns at the Town Hall. You do not need to be a GSO leader\, or even actively involved in a GSO. \n\nMeeting details are shared on GetINVOLVED.
URL:https://gsa.rutgers.edu/event/gsa-council-meeting-december-2021/
LOCATION:NJ
CATEGORIES:Council Meeting
END:VEVENT
BEGIN:VEVENT
DTSTART;TZID=UTC:20211208T080000
DTEND;TZID=UTC:20211208T090000
DTSTAMP:20260425T162134
CREATED:20211011T121804Z
LAST-MODIFIED:20211011T121805Z
UID:1176-1638950400-1638954000@gsa.rutgers.edu
SUMMARY:GSA Executive Council Office Hours
DESCRIPTION:Location: https://rutgers.zoom.us/j/93051669638 \nTopic: GSA Executive Office Hours \nTime: This is a recurring meeting Meet anytime \nJoin Zoom Meeting \nhttps://rutgers.zoom.us/j/93051669638 \nJoin by SIP \n93051669638@zoomcrc.com \nMeeting ID: 930 5166 9638 \nPassword: 457254 \nOne tap mobile \n+13126266799\,\,93051669638# US (Chicago) \n+16465588656\,\,93051669638# US (New York) \nJoin By Phone \n+1 312 626 6799 US (Chicago) \n+1 646 558 8656 US (New York) \n+1 301 715 8592 US (Washington DC) \n+1 346 248 7799 US (Houston) \n+1 669 900 9128 US (San Jose) \n+1 253 215 8782 US (Tacoma) \nMeeting ID: 930 5166 9638 \nFind your local number: https://rutgers.zoom.us/u/abccN3vtvI \nJoin by Skype for Business \nhttps://rutgers.zoom.us/skype/93051669638
URL:https://gsa.rutgers.edu/event/gsa-executive-council-office-hours-8/
LOCATION:NJ
CATEGORIES:Discussion,GSA Hosted
END:VEVENT
BEGIN:VEVENT
DTSTART;TZID=UTC:20211208T163000
DTEND;TZID=UTC:20211208T180000
DTSTAMP:20260425T162134
CREATED:20211206T144627Z
LAST-MODIFIED:20211206T144627Z
UID:1563-1638981000-1638986400@gsa.rutgers.edu
SUMMARY:It Takes a Village: Communicating science with stakeholders
DESCRIPTION:Join SPAR (Science Policy and Advocacy at Rutgers) and the Clinical Psychology GSA on Wednesday 12/8 for a virtual workshop called “It Takes a Village: Communicating science with stakeholders.” \nRSVP link: https://bit.ly/3lqdBkT \nZoom link: https://bit.ly/3xLBUyz \nTwitter & Instagram: @SciPolRU
URL:https://gsa.rutgers.edu/event/it-takes-a-village-communicating-science-with-stakeholders/
LOCATION:NJ
CATEGORIES:GSO Hosted
END:VEVENT
BEGIN:VEVENT
DTSTART;TZID=UTC:20211210T130000
DTEND;TZID=UTC:20211210T160000
DTSTAMP:20260425T162134
CREATED:20211011T185643Z
LAST-MODIFIED:20211011T185701Z
UID:1196-1639141200-1639152000@gsa.rutgers.edu
SUMMARY:Graduate Research Symposium - Call For Presenters
DESCRIPTION:We are pleased to announce the call for presenters for this semester’s Graduate Research Symposium\, “Diverse Voices\, Diverse Audiences\,” co-sponsored by GradELL @RELI\, which will be held on Dec. 10th. If you or one of your colleagues would be interested in presenting your research (at whatever stage) in a 10-minute\, interdisciplinary panel\, please consider submitting an abstract by Nov. 15th. \nThe symposium is becoming a time-honored tradition\, and has consistently proven to be an excellent networking and professional development opportunity—not to mention a fun way to learn about all the great research that goes on here at Rutgers!
URL:https://gsa.rutgers.edu/event/graduate-research-symposium/
LOCATION:NJ
CATEGORIES:Public Events
ORGANIZER;CN="Rutgers University":MAILTO:rich@sese.io
END:VEVENT
BEGIN:VEVENT
DTSTART;TZID=UTC:20211211T100000
DTEND;TZID=UTC:20211211T110000
DTSTAMP:20260425T162134
CREATED:20211108T141735Z
LAST-MODIFIED:20211108T141735Z
UID:1470-1639216800-1639220400@gsa.rutgers.edu
SUMMARY:Big Chill Rutgers 5K
DESCRIPTION:Register: https://runsignup.com/Race/NJ/NewBrunswick/RutgersBigChill5K \n 
URL:https://gsa.rutgers.edu/event/big-chill-rutgers-5k/
LOCATION:College Ave Gym\, 130 College Ave\, New Brunswick\, NJ\, 08901\, United States
CATEGORIES:Public Events
END:VEVENT
BEGIN:VEVENT
DTSTART;TZID=UTC:20211211T170000
DTEND;TZID=UTC:20211211T203000
DTSTAMP:20260425T162134
CREATED:20211206T144252Z
LAST-MODIFIED:20211206T144252Z
UID:1560-1639242000-1639254600@gsa.rutgers.edu
SUMMARY:End of Semester Bible Study & Social
DESCRIPTION:You all are invited to Rutgers GCF End of Semester Bible Study and Social 🎊 \n5 pm-7 pm ET: Bible Study @ Panico’s 94 Church St\, New Brunswick\, NJ 08901 \nFree food and a good word! Our President\, Jonathan\, will lead us in a short bible study in continuation with this semester’s theme of faith. Since we have to make a reservation for dinner\, we do ask that you RSVP as soon as you are able. \n7: 30 pm ET: Games & Snacks in Highland Park\, NJ \nAfter dinner\, we will migrate to Our treasurer May’s place in Highland Park for social time and games. Please RSVP to receive May’s address. \n*Masks required*
URL:https://gsa.rutgers.edu/event/end-of-semester-bible-study-social/
LOCATION:NJ
CATEGORIES:GSO Hosted
END:VEVENT
BEGIN:VEVENT
DTSTART;TZID=UTC:20211213T160000
DTEND;TZID=UTC:20211213T170000
DTSTAMP:20260425T162134
CREATED:20211122T155427Z
LAST-MODIFIED:20211122T155427Z
UID:1516-1639411200-1639414800@gsa.rutgers.edu
SUMMARY:USPTO Webinars
DESCRIPTION:Rutgers Office for Research – Innovation Ventures and New Brunswick Libraries are proud to host a series of Zoom sessions ranging from understanding the basics of the patent process to filing for a patent and searching for prior art.   All four sessions are conducted by the patent experts from the United States Patent and Trademark Office (USPTO). Rutgers faculty\, researchers\, students\, and staff are welcome to choose one or more sessions to attend. \nPlease help to publicize the sessions to your schools\, departments\, programs\, and classes. \nRegistration is required to receive the Zoom link. Register at https://go.rutgers.edu/patent2021.
URL:https://gsa.rutgers.edu/event/uspto-webinars-2/
LOCATION:NJ
CATEGORIES:Public Events
ORGANIZER;CN="Rutgers University":MAILTO:rich@sese.io
END:VEVENT
BEGIN:VEVENT
DTSTART;TZID=UTC:20211213T190000
DTEND;TZID=UTC:20211213T200000
DTSTAMP:20260425T162134
CREATED:20211213T145825Z
LAST-MODIFIED:20211213T145825Z
UID:1589-1639422000-1639425600@gsa.rutgers.edu
SUMMARY:GSA Yoga & Meditation
DESCRIPTION:Join GSA for the last Yoga & Meditation session of 2021 at the GSL. Please RSVP. Limited spots.
URL:https://gsa.rutgers.edu/event/gsa-yoga-meditation-3/
LOCATION:Graduate Student Lounge\, 126 College Ave\, New Brunswick\, NJ\, 08901\, United States
CATEGORIES:GSA Hosted
END:VEVENT
BEGIN:VEVENT
DTSTART;TZID=UTC:20211214T210000
DTEND;TZID=UTC:20211214T220000
DTSTAMP:20260425T162134
CREATED:20211213T133846Z
LAST-MODIFIED:20211213T133846Z
UID:1580-1639515600-1639519200@gsa.rutgers.edu
SUMMARY:RU GCF Prayer Meeting
DESCRIPTION:Join Rutgers Graduate Christian Fellowship for our final prayer meeting of 2021\, as we pray for each other and for a fruitful end-of-semester! It will be on Tuesday\, Dec 14th from 9-10 pm via zoom. Email ru.graduate.christian@gmail.com for the link!
URL:https://gsa.rutgers.edu/event/ru-gcf-prayer-meeting-2/
LOCATION:NJ
CATEGORIES:GSO Hosted
END:VEVENT
BEGIN:VEVENT
DTSTART;TZID=UTC:20211215T080000
DTEND;TZID=UTC:20211215T090000
DTSTAMP:20260425T162134
CREATED:20211011T121917Z
LAST-MODIFIED:20211011T121917Z
UID:1178-1639555200-1639558800@gsa.rutgers.edu
SUMMARY:GSA Executive Council Office Hours
DESCRIPTION:Location: https://rutgers.zoom.us/j/93051669638 \nTopic: GSA Executive Office Hours \nTime: This is a recurring meeting Meet anytime \nJoin Zoom Meeting \nhttps://rutgers.zoom.us/j/93051669638 \nJoin by SIP \n93051669638@zoomcrc.com \nMeeting ID: 930 5166 9638 \nPassword: 457254 \nOne tap mobile \n+13126266799\,\,93051669638# US (Chicago) \n+16465588656\,\,93051669638# US (New York) \nJoin By Phone \n+1 312 626 6799 US (Chicago) \n+1 646 558 8656 US (New York) \n+1 301 715 8592 US (Washington DC) \n+1 346 248 7799 US (Houston) \n+1 669 900 9128 US (San Jose) \n+1 253 215 8782 US (Tacoma) \nMeeting ID: 930 5166 9638 \nFind your local number: https://rutgers.zoom.us/u/abccN3vtvI \nJoin by Skype for Business \nhttps://rutgers.zoom.us/skype/93051669638
URL:https://gsa.rutgers.edu/event/gsa-executive-council-office-hours-9/
LOCATION:NJ
CATEGORIES:Discussion,GSA Hosted
END:VEVENT
BEGIN:VEVENT
DTSTART;TZID=UTC:20211216T183000
DTEND;TZID=UTC:20211216T230000
DTSTAMP:20260425T162134
CREATED:20211206T152852Z
LAST-MODIFIED:20211206T152853Z
UID:1566-1639679400-1639695600@gsa.rutgers.edu
SUMMARY:GSA Ugly Sweater Holiday Dinner!
DESCRIPTION:Join GSA\, MBGSO\, CCB\, and Seeding Labs for the Holiday dinner! Wear an ugly sweater and enjoy a buffet of Mediterranean and Indian food! Please RSVP. \n \n 
URL:https://gsa.rutgers.edu/event/gsa-ugly-sweater-holiday-dinner/
LOCATION:College Ave Student Center\, 126 College Ave\, New Brunswick\, NJ\, 08901\, United States
CATEGORIES:GSA Hosted,GSO Hosted
END:VEVENT
BEGIN:VEVENT
DTSTART;TZID=UTC:20211217T100000
DTEND;TZID=UTC:20211217T113000
DTSTAMP:20260425T162134
CREATED:20211213T141413Z
LAST-MODIFIED:20211213T141434Z
UID:1583-1639735200-1639740600@gsa.rutgers.edu
SUMMARY:HNC Winter Beverage Warming Event
DESCRIPTION:REGISTER: https://rutgers.campuslabs.com/engage/event/7648949 \n \n 
URL:https://gsa.rutgers.edu/event/winter-beverage-warming-event/
LOCATION:BME Building\, 599 Taylor Rd\, Piscataway\, NJ\, 08854\, United States
CATEGORIES:GSA Hosted
ORGANIZER;CN="GSA Health &amp%3B Nutrition Committee":MAILTO:healthandnutrition@gsa.rutgers.edu
END:VEVENT
BEGIN:VEVENT
DTSTART;TZID=UTC:20211221T190000
DTEND;TZID=UTC:20211221T200000
DTSTAMP:20260425T162134
CREATED:20211213T144919Z
LAST-MODIFIED:20211213T144919Z
UID:1586-1640113200-1640116800@gsa.rutgers.edu
SUMMARY:GSA Holiday Cookie Decorating!
DESCRIPTION:Join the GSA to decorate some fun Christmas cookies! Please RSVP.
URL:https://gsa.rutgers.edu/event/gsa-holiday-cookie-decorating/
LOCATION:Graduate Student Lounge\, 126 College Ave\, New Brunswick\, NJ\, 08901\, United States
CATEGORIES:GSA Hosted
END:VEVENT
BEGIN:VEVENT
DTSTART;TZID=UTC:20211222T193000
DTEND;TZID=UTC:20211222T223000
DTSTAMP:20260425T162134
CREATED:20211208T175054Z
LAST-MODIFIED:20211208T175054Z
UID:1576-1640201400-1640212200@gsa.rutgers.edu
SUMMARY:GSA Free Movie @ Rutgers Cinema: Spiderman No Way Home
DESCRIPTION:Join GSA at RU Cinema for Spiderman: No Way Home with free unlimited popcorn and soda. \nWed\, Dec 22nd \n7:30 pm \nRSVP: https://rutgers.campuslabs.com/engage/event/7648696 \nPlease RSVP to get tickets. It is mandatory. \n \n 
URL:https://gsa.rutgers.edu/event/gsa-free-movie-rutgers-cinema-spiderman-no-way-home/
LOCATION:Rutgers Cinema\, 105 Joyce Kilmer Ave\, Piscataway\, NJ\, United States
CATEGORIES:GSA Hosted
END:VEVENT
END:VCALENDAR