BEGIN:VCALENDAR
VERSION:2.0
PRODID:-//Graduate Student Association - ECPv6.7.0//NONSGML v1.0//EN
CALSCALE:GREGORIAN
METHOD:PUBLISH
X-WR-CALNAME:Graduate Student Association
X-ORIGINAL-URL:https://gsa.rutgers.edu
X-WR-CALDESC:Events for Graduate Student Association
REFRESH-INTERVAL;VALUE=DURATION:PT1H
X-Robots-Tag:noindex
X-PUBLISHED-TTL:PT1H
BEGIN:VTIMEZONE
TZID:UTC
BEGIN:STANDARD
TZOFFSETFROM:+0000
TZOFFSETTO:+0000
TZNAME:UTC
DTSTART:20230101T000000
END:STANDARD
END:VTIMEZONE
BEGIN:VEVENT
DTSTART;TZID=UTC:20230303T160000
DTEND;TZID=UTC:20230303T180000
DTSTAMP:20260425T152911
CREATED:20230123T132727Z
LAST-MODIFIED:20230123T132728Z
UID:2820-1677859200-1677866400@gsa.rutgers.edu
SUMMARY:Rutgers Global Friendship Fridays: Game Night
DESCRIPTION:Friendship Fridays are a weekly event open to all Rutgers students\, both domestic and international. Each week there is a different theme where attendees can enjoy games\, activities\, and conversation – all while making new friends from around the world. \n  \nJoin Rutgers Global\, the Graduate Student Association\, and Unplugged – The Board Gaming Club for some fun and games.  Feel free to bring your favorite game to share with others or play one of the many games that we will have on hand. \nPlease RSVP: https://rutgers.campuslabs.com/engage/event/8633274
URL:https://gsa.rutgers.edu/event/rutgers-global-friendship-fridays-game-night/
LOCATION:College Ave Student Center\, 126 College Ave\, New Brunswick\, NJ\, 08901\, United States
CATEGORIES:GSA Hosted,Public Events
END:VEVENT
END:VCALENDAR