BEGIN:VCALENDAR
VERSION:2.0
PRODID:-//Graduate Student Association - ECPv6.7.0//NONSGML v1.0//EN
CALSCALE:GREGORIAN
METHOD:PUBLISH
X-WR-CALNAME:Graduate Student Association
X-ORIGINAL-URL:https://gsa.rutgers.edu
X-WR-CALDESC:Events for Graduate Student Association
REFRESH-INTERVAL;VALUE=DURATION:PT1H
X-Robots-Tag:noindex
X-PUBLISHED-TTL:PT1H
BEGIN:VTIMEZONE
TZID:UTC
BEGIN:STANDARD
TZOFFSETFROM:+0000
TZOFFSETTO:+0000
TZNAME:UTC
DTSTART:20220101T000000
END:STANDARD
END:VTIMEZONE
BEGIN:VEVENT
DTSTART;TZID=UTC:20230914T150000
DTEND;TZID=UTC:20230914T180000
DTSTAMP:20260421T010248
CREATED:20230829T154845Z
LAST-MODIFIED:20230829T160644Z
UID:3184-1694703600-1694714400@gsa.rutgers.edu
SUMMARY:Graduate Student Welcome and Resource Fair
DESCRIPTION:Enjoy food\, networking\, and learn about our graduate organization and support services! All graduate students are welcome!
URL:https://gsa.rutgers.edu/event/graduate-student-welcome-and-resource-fair/
LOCATION:Busch Student Center MPR\, 604 Bartholomew Rd\, Piscataway\, NJ
CATEGORIES:GSA Hosted
END:VEVENT
BEGIN:VEVENT
DTSTART;TZID=UTC:20230913T090000
DTEND;TZID=UTC:20230913T230000
DTSTAMP:20260421T010248
CREATED:20230829T154959Z
LAST-MODIFIED:20230829T160610Z
UID:3187-1694595600-1694646000@gsa.rutgers.edu
SUMMARY:GSA Coffee & Breakfast Mixer
DESCRIPTION:Join us for a delightful morning of warmth\, conversation\, and scrumptious delights at our Coffee and Breakfast event.\nWhether you’re here to kickstart your day or savour a liesurely morning\, GSA would be delighted to host you !
URL:https://gsa.rutgers.edu/event/gsa-coffee-breakfast-mixer/
LOCATION:CCB Building Lounge\, 123 Bevier Road\, Piscataway\, NJ\, 08854\, United States
CATEGORIES:GSA Hosted
END:VEVENT
BEGIN:VEVENT
DTSTART;TZID=UTC:20230903T090000
DTEND;TZID=UTC:20230903T120000
DTSTAMP:20260421T010248
CREATED:20230829T160455Z
LAST-MODIFIED:20230829T160535Z
UID:3199-1693731600-1693742400@gsa.rutgers.edu
SUMMARY:GSA Wildcats Vs Scarlet Knights Tailgate Party and Discounted Game Passes
DESCRIPTION:Join GSA and Kinesiology and Applied Physiology (KAP) GSO for the Rutgers Football home opener! \nAll Graduate students from all Rutgers NB Graduate Schools are invited! Great opportunity to meet other graduate students from other grad programs. \nA $10 ticket includes a pre-game tailgate with food\, drinks\, and fun! Please RSVP for tailgate and/or ticket reservation at this link: https://forms.office.com/r/z5ZysamDTw. If you can’t join the tailgate and want tickets\, that is also an option. Fill out the form and let us know. Up to 4 tickets can be purchased. \nQuestions? Email Shawn\, the GSA Business Manager\, at help@gsa.rutgers.edu
URL:https://gsa.rutgers.edu/event/gsa-wildcats-vs-scarlet-knights-tailgate-party-and-discounted-game-passes/
LOCATION:Lot 54\, Lot 54\, Piscataway\, NJ 08854\, Piscataway
CATEGORIES:GSA Hosted,GSO Hosted
END:VEVENT
BEGIN:VEVENT
DTSTART;TZID=UTC:20230507T190000
DTEND;TZID=UTC:20230507T210000
DTSTAMP:20260421T010248
CREATED:20230417T163043Z
LAST-MODIFIED:20230417T163043Z
UID:3066-1683486000-1683493200@gsa.rutgers.edu
SUMMARY:GSA Free Movie @ RU Cinema: Guardians of the Galaxy Vol 3
DESCRIPTION:Watch the new Guardians of the Galaxy Vol 3 movie! \nPlease RSVP to get tickets. Limited spots. 1 guest limit. \n  \nTicket distribution: \nDate: Tuesday\, May 2nd 5pm-6pm \nLocation: Graduate Student Lounge\, Room 208\, 126 College Ave\, behind Panera Bread\, New Brunswick\, NJ 08901 \nNote: Tickets will be distributed on first come first serve basis. You will be emailed if there are remaining tickets. \nPlease RSVP
URL:https://gsa.rutgers.edu/event/gsa-free-movie-ru-cinema-guardians-of-the-galaxy-vol-3/
LOCATION:Rutgers Cinema\, 105 Joyce Kilmer Ave\, Piscataway\, NJ\, United States
CATEGORIES:GSA Hosted
END:VEVENT
BEGIN:VEVENT
DTSTART;TZID=UTC:20230504T110000
DTEND;TZID=UTC:20230504T140000
DTSTAMP:20260421T010248
CREATED:20230501T143107Z
LAST-MODIFIED:20230501T143107Z
UID:3113-1683198000-1683208800@gsa.rutgers.edu
SUMMARY:GSA Mental Health Committee: Destress event
DESCRIPTION:Join GSA and your peers for a destress event with informational items\, stress ball giveaways\, boba\, and snacks. \nLocation: CABM Atrium – Busch campus \nDate and Time: Thursday\, May 4th 11m-2pm \nPlease RSVP
URL:https://gsa.rutgers.edu/event/gsa-mental-health-committee-destress-event/
LOCATION:CABM Courtyard\, 679 Hoes Ln W\, Piscataway\, NJ\, United States
CATEGORIES:GSA Hosted
END:VEVENT
BEGIN:VEVENT
DTSTART;TZID=UTC:20230503T160000
DTEND;TZID=UTC:20230503T190000
DTSTAMP:20260421T010248
CREATED:20230306T152832Z
LAST-MODIFIED:20230417T170355Z
UID:2975-1683129600-1683140400@gsa.rutgers.edu
SUMMARY:GSA End of Year Backyard Grill Party
DESCRIPTION:Join GSA for a backyard barbecue party! \nEnjoy unlimited burgers\, hotdogs and much more! \nPlease RSVP: https://rutgers.campuslabs.com/engage/event/8956747 \nAddress: Buell Apartments Courtyard\, Busch Campus \nDate and Time: May 3rd 2022\, 4pm-7pm \n 
URL:https://gsa.rutgers.edu/event/gsa-end-of-year-backyard-grill-party/
LOCATION:Buell Apartments\, 55 Bevier Rd\, Piscataway\, NJ 08854
CATEGORIES:GSA Hosted
END:VEVENT
BEGIN:VEVENT
DTSTART;TZID=UTC:20230503T090000
DTEND;TZID=UTC:20230503T110000
DTSTAMP:20260421T010248
CREATED:20230329T164502Z
LAST-MODIFIED:20230329T164502Z
UID:3026-1683104400-1683111600@gsa.rutgers.edu
SUMMARY:GSA Coffee and Breakfast Mixer
DESCRIPTION:Greetings All!  \nMeet GSA and your peers for a chat over coffee and bagels! Please RSVP \nWednesday\, May 3rd\, 2023 \n9 – 11 AM \nCCB Building Lobby\, 1st floor\, Busch Campus \nPlease RSVP
URL:https://gsa.rutgers.edu/event/gsa-coffee-and-breakfast-mixer-7/
LOCATION:CCB Building Lounge\, 123 Bevier Road\, Piscataway\, NJ\, 08854\, United States
CATEGORIES:GSA Hosted
END:VEVENT
BEGIN:VEVENT
DTSTART;TZID=UTC:20230501T190000
DTEND;TZID=UTC:20230501T200000
DTSTAMP:20260421T010248
CREATED:20230117T224556Z
LAST-MODIFIED:20230117T224557Z
UID:2800-1682967600-1682971200@gsa.rutgers.edu
SUMMARY:GSA Council Meeting: May 2023
DESCRIPTION:Council Meeting for May will be held on May 1st\, 2023 at 7 pm via Zoom. \nThe Zoom link will be shared on GetInvolved with all GSA members. \nIf any GSO is not a member of GSA on GetInvolved yet\, they are requested to do so. For any questions\, please email ec@gsa.rutgers.edu
URL:https://gsa.rutgers.edu/event/gsa-council-meeting-may-2023/
LOCATION:Zoom
CATEGORIES:Council Meeting,GSA Hosted
END:VEVENT
BEGIN:VEVENT
DTSTART;TZID=UTC:20230418T180000
DTEND;TZID=UTC:20230418T190000
DTSTAMP:20260421T010248
CREATED:20230410T124501Z
LAST-MODIFIED:20230410T124501Z
UID:3045-1681840800-1681844400@gsa.rutgers.edu
SUMMARY:RU SSW & GSA: Carlos Mark Vera
DESCRIPTION:Event synopsis: Under the leadership of Carlos Mark Vera\, Pay Our Interns (POI) successfully influenced Congress to pass more than $150 million in funding for interns and has helped agencies create internship programs.\nAmong numerous honors and article features\, he has been named a Forbes 30 Under 30 Honoree and a Top 20 Changemaker by NBC Latino. \nDuring this event\, Carlos will speak about the need for paid internships in social work\, the creation of POl\, and his career as a young\, non-profit leader young\, non-profit leader. Q&A to follow.
URL:https://gsa.rutgers.edu/event/ru-ssw-gsa-carlos-mark-vera/
LOCATION:Zoom
CATEGORIES:GSA Hosted,GSO Hosted
END:VEVENT
BEGIN:VEVENT
DTSTART;TZID=UTC:20230407T160000
DTEND;TZID=UTC:20230407T170000
DTSTAMP:20260421T010248
CREATED:20230123T132426Z
LAST-MODIFIED:20230123T132427Z
UID:2817-1680883200-1680886800@gsa.rutgers.edu
SUMMARY:Rutgers Global Friendship Fridays: Trivia Challenge
DESCRIPTION:Friendship Fridays are a weekly event open to all Rutgers students\, both domestic and international. Each week there is a different theme where attendees can enjoy games\, activities\, and conversation – all while making new friends from around the world. \n  \nAre you interested in earning some prizes for knowing random facts?  Then join Rutgers Global and the Graduate Student Association for a team trivia challenge.  Come solo or bring your friends to form a team. \nPlease RSVP: https://rutgers.campuslabs.com/engage/event/8636087
URL:https://gsa.rutgers.edu/event/rutgers-global-friendship-fridays-trivia-challenge/
LOCATION:Graduate Student Lounge\, 126 College Ave\, New Brunswick\, NJ\, 08901\, United States
CATEGORIES:GSA Hosted,Public Events
END:VEVENT
BEGIN:VEVENT
DTSTART;TZID=UTC:20230405T090000
DTEND;TZID=UTC:20230405T110000
DTSTAMP:20260421T010248
CREATED:20230309T170416Z
LAST-MODIFIED:20230403T123244Z
UID:2984-1680685200-1680692400@gsa.rutgers.edu
SUMMARY:GSA Coffee and Breakfast Mixer
DESCRIPTION:Greetings All!  \nMeet GSA and your peers for a chat over coffee and bagels! Please RSVP \nWednesday\, April 5th\, 2023 \n9 – 11 AM \nGraduate Student Lounge\, 126\, College Ave\, Behind Panera\, NB\, NJ- 08901 \nPlease RSVP\n\n\n\n 
URL:https://gsa.rutgers.edu/event/gsa-coffee-and-breakfast-mixer-6/
LOCATION:Graduate Student Lounge\, 126 College Ave\, New Brunswick\, NJ\, 08901\, United States
CATEGORIES:GSA Hosted
END:VEVENT
BEGIN:VEVENT
DTSTART;TZID=UTC:20230403T190000
DTEND;TZID=UTC:20230403T200000
DTSTAMP:20260421T010248
CREATED:20230117T224517Z
LAST-MODIFIED:20230117T224518Z
UID:2798-1680548400-1680552000@gsa.rutgers.edu
SUMMARY:GSA Council Meeting: April 2023
DESCRIPTION:Council Meeting for April will be held on April 3rd\, 2023 at 7 pm via Zoom. \nThe Zoom link will be shared on GetInvolved with all GSA members. \nIf any GSO is not a member of GSA on GetInvolved yet\, they are requested to do so. For any questions\, please email ec@gsa.rutgers.edu
URL:https://gsa.rutgers.edu/event/gsa-council-meeting-april-2023/
LOCATION:Zoom
CATEGORIES:Council Meeting,GSA Hosted
END:VEVENT
BEGIN:VEVENT
DTSTART;TZID=UTC:20230323T180000
DTEND;TZID=UTC:20230323T193000
DTSTAMP:20260421T010248
CREATED:20230220T212323Z
LAST-MODIFIED:20230220T212324Z
UID:2954-1679594400-1679599800@gsa.rutgers.edu
SUMMARY:Corn: The A-Maize-ing Global Food Staple
DESCRIPTION:Join Rutgers Global\, the Rutgers Graduate Student Association\, and the Nutritional Sciences GSO for an evening featuring corn.  Guest speaker\, Dr. Mark Robson\, will briefly discuss the global importance of this crop before international dishes made with corn are sampled. \nPlease RSVP via getINVOLVED if you plan to attend.
URL:https://gsa.rutgers.edu/event/corn-the-a-maize-ing-global-food-staple/
LOCATION:College Ave Student Center\, 126 College Ave\, New Brunswick\, NJ\, 08901\, United States
CATEGORIES:GSA Hosted,GSO Hosted
END:VEVENT
BEGIN:VEVENT
DTSTART;TZID=UTC:20230319T180000
DTEND;TZID=UTC:20230319T210000
DTSTAMP:20260421T010248
CREATED:20230220T154750Z
LAST-MODIFIED:20230220T154800Z
UID:2932-1679248800-1679259600@gsa.rutgers.edu
SUMMARY:GSA Free Movie @ RU Cinema: SHAZAM! FURY OF THE GODS
DESCRIPTION:Watch the new SHAZAM! FURY OF THE GODS movie with unlimited popcorn and soda! \nPlease RSVP to get tickets. Limited spots. 1 guest limit. \n  \nTicket distribution: \nDate: Thursday\, March 16th 5pm-6pm \nLocation: Graduate Student Lounge\, Room 208\, 126 College Ave\, behind Panera Bread\, New Brunswick\, NJ 08901 \nNote: Tickets will be distributed on first come first serve basis. You will be emailed if there are remaining tickets.
URL:https://gsa.rutgers.edu/event/gsa-free-movie-ru-cinema-shazam-fury-of-the-gods/
LOCATION:Rutgers Cinema\, 105 Joyce Kilmer Ave\, Piscataway\, NJ\, United States
CATEGORIES:GSA Hosted
END:VEVENT
BEGIN:VEVENT
DTSTART;TZID=UTC:20230316T210000
DTEND;TZID=UTC:20230316T230000
DTSTAMP:20260421T010248
CREATED:20230306T151703Z
LAST-MODIFIED:20230306T151704Z
UID:2972-1679000400-1679007600@gsa.rutgers.edu
SUMMARY:Ice Skating Party
DESCRIPTION:Join the GSA Recreation Committee and the Chemistry and Chemical Biology GSO for a night of skating fun at the Roosevelt Park Family Skating Rink! The event will run from 9 PM to 10:30 PM on Thursday\, March 16th. Skate rentals and snacks will be provided so grab your friends and a pair of gloves and join us for a night of outdoor fun. No experience is required! If you have never skated before this is a perfect opportunity to try it! \nWe hope that people can provide rides to each other\, please use this carpooling application if you have extra seats in your car or need to find a ride: https://www.groupcarpool.com/t/jp9fbv \nIf you can’t find a ride please email recreation@gsa.rutgers.edu and we might be able to help!
URL:https://gsa.rutgers.edu/event/ice-skating-party/
CATEGORIES:GSA Hosted
END:VEVENT
BEGIN:VEVENT
DTSTART;TZID=UTC:20230308T090000
DTEND;TZID=UTC:20230308T110000
DTSTAMP:20260421T010248
CREATED:20230117T223103Z
LAST-MODIFIED:20230117T223103Z
UID:2791-1678266000-1678273200@gsa.rutgers.edu
SUMMARY:GSA Coffee and Breakfast Mixer
DESCRIPTION:Meet GSA and your peers for a chat over coffee and bagels! Please RSVP \nWednesday\, March 8th\, 2023 \n9 – 11 AM \nGraduate Student Lounge\, 126\, College Ave\, Behind Panera\, NB\, NJ- 08901 \nPlease RSVP
URL:https://gsa.rutgers.edu/event/gsa-coffee-and-breakfast-mixer-4/
LOCATION:Graduate Student Lounge\, 126 College Ave\, New Brunswick\, NJ\, 08901\, United States
CATEGORIES:GSA Hosted
END:VEVENT
BEGIN:VEVENT
DTSTART;TZID=UTC:20230306T190000
DTEND;TZID=UTC:20230306T200000
DTSTAMP:20260421T010248
CREATED:20230117T224432Z
LAST-MODIFIED:20230117T224433Z
UID:2796-1678129200-1678132800@gsa.rutgers.edu
SUMMARY:GSA Council Meeting: March 2023
DESCRIPTION:Council Meeting for March will be held on March 6th\, 2023 at 7 pm via Zoom. \nThe Zoom link will be shared on GetInvolved with all GSA members. \nIf any GSO is not a member of GSA on GetInvolved yet\, they are requested to do so. For any questions\, please email ec@gsa.rutgers.edu
URL:https://gsa.rutgers.edu/event/gsa-council-meeting-march-2023/
LOCATION:Zoom
CATEGORIES:Council Meeting,GSA Hosted
END:VEVENT
BEGIN:VEVENT
DTSTART;TZID=UTC:20230305T180000
DTEND;TZID=UTC:20230305T210000
DTSTAMP:20260421T010248
CREATED:20230220T154647Z
LAST-MODIFIED:20230220T154647Z
UID:2933-1678039200-1678050000@gsa.rutgers.edu
SUMMARY:GSA Free Movie @ RU Cinema: Creed III
DESCRIPTION:Watch the new Creed III movie with unlimited popcorn and soda! \nPlease RSVP to get tickets. Limited spots. 1 guest limit. \n  \nTicket distribution: \nDate: Thursday\, March 2nd 5pm-6pm \nLocation: Graduate Student Lounge\, Room 208\, 126 College Ave\, behind Panera Bread\, New Brunswick\, NJ 08901 \nNote: Tickets will be distributed on first come first serve basis. You will be emailed if there are remaining tickets.
URL:https://gsa.rutgers.edu/event/gsa-free-movie-ru-cinema-creed-iii/
LOCATION:Rutgers Cinema\, 105 Joyce Kilmer Ave\, Piscataway\, NJ\, United States
CATEGORIES:GSA Hosted
END:VEVENT
BEGIN:VEVENT
DTSTART;TZID=UTC:20230303T160000
DTEND;TZID=UTC:20230303T180000
DTSTAMP:20260421T010248
CREATED:20230123T132727Z
LAST-MODIFIED:20230123T132728Z
UID:2820-1677859200-1677866400@gsa.rutgers.edu
SUMMARY:Rutgers Global Friendship Fridays: Game Night
DESCRIPTION:Friendship Fridays are a weekly event open to all Rutgers students\, both domestic and international. Each week there is a different theme where attendees can enjoy games\, activities\, and conversation – all while making new friends from around the world. \n  \nJoin Rutgers Global\, the Graduate Student Association\, and Unplugged – The Board Gaming Club for some fun and games.  Feel free to bring your favorite game to share with others or play one of the many games that we will have on hand. \nPlease RSVP: https://rutgers.campuslabs.com/engage/event/8633274
URL:https://gsa.rutgers.edu/event/rutgers-global-friendship-fridays-game-night/
LOCATION:College Ave Student Center\, 126 College Ave\, New Brunswick\, NJ\, 08901\, United States
CATEGORIES:GSA Hosted,Public Events
END:VEVENT
BEGIN:VEVENT
DTSTART;TZID=UTC:20230221T090000
DTEND;TZID=UTC:20230221T100000
DTSTAMP:20260421T010248
CREATED:20230220T161250Z
LAST-MODIFIED:20230220T161251Z
UID:2945-1676970000-1676973600@gsa.rutgers.edu
SUMMARY:GSA Executive Council Office Hours
DESCRIPTION:The executive council of the GSA will hold weekly office hours on Tuesday and Wednesday from 9-10am over zoom. Please bring any questions you have about your GSO\, any fun projects you or your GSO are working on and would like GSA input and/or any questions or concerns you have as graduate students to these office hours. Our President\, Executive Vice President\, Treasurer and/or Secretary should be available at either one of these office hours to answer your questions or connect you with resources. \nTopic: GSA Office Hours\nTime: Feb 7\, 2023 09:00 AM Eastern Time (US and Canada)\nEvery week on Tue\, Wed\, until May 24\, 2023\, 32 occurrence(s)\nFeb 7\, 2023 09:00 AM\nFeb 8\, 2023 09:00 AM\nFeb 14\, 2023 09:00 AM\nFeb 15\, 2023 09:00 AM\nFeb 21\, 2023 09:00 AM\nFeb 22\, 2023 09:00 AM\nFeb 28\, 2023 09:00 AM\nMar 1\, 2023 09:00 AM\nMar 7\, 2023 09:00 AM\nMar 8\, 2023 09:00 AM\nMar 14\, 2023 09:00 AM\nMar 15\, 2023 09:00 AM\nMar 21\, 2023 09:00 AM\nMar 22\, 2023 09:00 AM\nMar 28\, 2023 09:00 AM\nMar 29\, 2023 09:00 AM\nApr 4\, 2023 09:00 AM\nApr 5\, 2023 09:00 AM\nApr 11\, 2023 09:00 AM\nApr 12\, 2023 09:00 AM\nApr 18\, 2023 09:00 AM\nApr 19\, 2023 09:00 AM\nApr 25\, 2023 09:00 AM\nApr 26\, 2023 09:00 AM\nMay 2\, 2023 09:00 AM\nMay 3\, 2023 09:00 AM\nMay 9\, 2023 09:00 AM\nMay 10\, 2023 09:00 AM\nMay 16\, 2023 09:00 AM\nMay 17\, 2023 09:00 AM\nMay 23\, 2023 09:00 AM\nMay 24\, 2023 09:00 AM\nPlease download and import the following iCalendar (.ics) files to your calendar system.\nWeekly: https://rutgers.zoom.us/meeting/tJclfuiprTMiH9DBgXbVcgDHOeOZliIZvQSA/ics?icsToken=98tyKuCrpjIrG9eduByDRowqGor4d-vztlxHgvp5vhjdARZQZSfeGedtCL52OeLG \nJoin Zoom Meeting\nhttps://rutgers.zoom.us/j/93891138854?pwd=c09wSUtEK3VWQzEyT2hvd0J2OWx1Zz09 \nMeeting ID: 938 9113 8854\nPassword: 076224 \nMeeting ID: 938 9113 8854\nFind your local number: https://rutgers.zoom.us/u/absAFuh1ND \nJoin by Skype for Business\nhttps://rutgers.zoom.us/skype/93891138854 \nIf you have any questions\, please <a href=”https://it.rutgers.edu/help-support/”>contact the Office of Information Technology Help Desk</a>
URL:https://gsa.rutgers.edu/event/gsa-executive-council-office-hours-46/
LOCATION:Zoom
CATEGORIES:GSA Hosted
END:VEVENT
BEGIN:VEVENT
DTSTART;TZID=UTC:20230219T180000
DTEND;TZID=UTC:20230219T210000
DTSTAMP:20260421T010248
CREATED:20230117T222534Z
LAST-MODIFIED:20230117T222535Z
UID:2788-1676829600-1676840400@gsa.rutgers.edu
SUMMARY:GSA Free Movie @ RU Cinema: Ant-Man and the Wasp: Quantumania
DESCRIPTION:Watch the new Antman and the Wasp Quantumania movie with unlimited popcorn and soda! \nPlease RSVP to get tickets. Limited spots. 1 guest limit. \n  \nTicket distribution: \nDate: Thursday\, Feb 16th 5pm-6pm \nLocation: Graduate Student Lounge\, Room 208\, 126 College Ave\, behind Panera Bread\, New Brunswick\, NJ 08901 \nNote: Tickets will be distributed on first come first serve basis. You will be emailed if there are remaining tickets.
URL:https://gsa.rutgers.edu/event/gsa-free-movie-ru-cinema-ant-man-and-the-wasp-quantumania/
LOCATION:Rutgers Cinema\, 105 Joyce Kilmer Ave\, Piscataway\, NJ\, United States
CATEGORIES:GSA Hosted
END:VEVENT
BEGIN:VEVENT
DTSTART;TZID=UTC:20230217T160000
DTEND;TZID=UTC:20230217T180000
DTSTAMP:20260421T010248
CREATED:20230206T151726Z
LAST-MODIFIED:20230206T151727Z
UID:2893-1676649600-1676656800@gsa.rutgers.edu
SUMMARY:Knight at the Museum
DESCRIPTION:Friday\, February 17\, 2023 4:00 – 7:00pm\nFree Food & Prizes \nConnect with graduate students\,\nexperience the museum\, and enjoy free food! \nPlease RSVP
URL:https://gsa.rutgers.edu/event/knight-at-the-museum/
LOCATION:Zimmerli Art Museum\, 71 Hamilton St\, New Brunswick\, NJ\, United States
CATEGORIES:GSA Hosted,GSO Hosted
ORGANIZER;CN="Graduate Student Life":MAILTO:gradstudentlife@echo.rutgers.edu
END:VEVENT
BEGIN:VEVENT
DTSTART;TZID=UTC:20230213T190000
DTEND;TZID=UTC:20230213T210000
DTSTAMP:20260421T010248
CREATED:20230209T124849Z
LAST-MODIFIED:20230209T124849Z
UID:2906-1676314800-1676322000@gsa.rutgers.edu
SUMMARY:GSA DEI: LGBTQIA+ Valentine's day movie night
DESCRIPTION:Hello all! \nJoin Rutgers GRADient\, GSA\, and your friends this Valentine’s day week for the showing of the LGBTQIA+ rom com Saving Face! \nSnacks/food will be provided! \nMonday\, Feb. 13th 7-9pm at the Graduate Student Lounge in College Avenue Student Center\, New Brunswick \nPlease RSVP
URL:https://gsa.rutgers.edu/event/gsa-dei-lgbtqia-valentines-day-movie-night/
LOCATION:Graduate Student Lounge\, 126 College Ave\, New Brunswick\, NJ\, 08901\, United States
CATEGORIES:GSA Hosted
END:VEVENT
BEGIN:VEVENT
DTSTART;TZID=UTC:20230209T190000
DTEND;TZID=UTC:20230209T220000
DTSTAMP:20260421T010248
CREATED:20230206T133110Z
LAST-MODIFIED:20230206T133110Z
UID:2890-1675969200-1675980000@gsa.rutgers.edu
SUMMARY:GSA Game Night @ Esports Center\, Busch Student Center
DESCRIPTION:Play online games with your friends & peers while having snacks! \nThursday\, Feb 9th 7-10 pm at Rutgers Esports Center\, Busch Student Center. \n  \nPlease RSVP
URL:https://gsa.rutgers.edu/event/gsa-game-night-esports-center-busch-student-center-3/
LOCATION:Busch Student Center\, 604 Bartholomew Rd Suite 152\, Piscataway\, NJ 08854
CATEGORIES:GSA Hosted
END:VEVENT
BEGIN:VEVENT
DTSTART;TZID=UTC:20230208T090000
DTEND;TZID=UTC:20230208T110000
DTSTAMP:20260421T010248
CREATED:20230118T173838Z
LAST-MODIFIED:20230118T173839Z
UID:2803-1675846800-1675854000@gsa.rutgers.edu
SUMMARY:GSA Coffee and Breakfast Mixer
DESCRIPTION:Meet GSA and your peers for a chat over coffee and bagels! Please RSVP \nWednesday\, March 8th\, 2023 \n9 – 11 AM \nCCB Lounge\, 1st Floor\, Busch Campus \nPlease RSVP
URL:https://gsa.rutgers.edu/event/gsa-coffee-and-breakfast-mixer-5/
LOCATION:CCB Building Lounge\, 123 Bevier Road\, Piscataway\, NJ\, 08854\, United States
CATEGORIES:GSA Hosted
END:VEVENT
BEGIN:VEVENT
DTSTART;TZID=UTC:20230208T090000
DTEND;TZID=UTC:20230208T100000
DTSTAMP:20260421T010248
CREATED:20230130T123118Z
LAST-MODIFIED:20230130T123119Z
UID:2855-1675846800-1675850400@gsa.rutgers.edu
SUMMARY:GSA Executive Council Office Hours
DESCRIPTION:The executive council of the GSA will hold weekly office hours on Tuesday and Wednesday from 9-10am over zoom. Please bring any questions you have about your GSO\, any fun projects you or your GSO are working on and would like GSA input and/or any questions or concerns you have as graduate students to these office hours. Our President\, Executive Vice President\, Treasurer and/or Secretary should be available at either one of these office hours to answer your questions or connect you with resources. \nTopic: GSA Office Hours\nTime: Feb 7\, 2023 09:00 AM Eastern Time (US and Canada)\nEvery week on Tue\, Wed\, until May 24\, 2023\, 32 occurrence(s)\nFeb 7\, 2023 09:00 AM\nFeb 8\, 2023 09:00 AM\nFeb 14\, 2023 09:00 AM\nFeb 15\, 2023 09:00 AM\nFeb 21\, 2023 09:00 AM\nFeb 22\, 2023 09:00 AM\nFeb 28\, 2023 09:00 AM\nMar 1\, 2023 09:00 AM\nMar 7\, 2023 09:00 AM\nMar 8\, 2023 09:00 AM\nMar 14\, 2023 09:00 AM\nMar 15\, 2023 09:00 AM\nMar 21\, 2023 09:00 AM\nMar 22\, 2023 09:00 AM\nMar 28\, 2023 09:00 AM\nMar 29\, 2023 09:00 AM\nApr 4\, 2023 09:00 AM\nApr 5\, 2023 09:00 AM\nApr 11\, 2023 09:00 AM\nApr 12\, 2023 09:00 AM\nApr 18\, 2023 09:00 AM\nApr 19\, 2023 09:00 AM\nApr 25\, 2023 09:00 AM\nApr 26\, 2023 09:00 AM\nMay 2\, 2023 09:00 AM\nMay 3\, 2023 09:00 AM\nMay 9\, 2023 09:00 AM\nMay 10\, 2023 09:00 AM\nMay 16\, 2023 09:00 AM\nMay 17\, 2023 09:00 AM\nMay 23\, 2023 09:00 AM\nMay 24\, 2023 09:00 AM\nPlease download and import the following iCalendar (.ics) files to your calendar system.\nWeekly: https://rutgers.zoom.us/meeting/tJclfuiprTMiH9DBgXbVcgDHOeOZliIZvQSA/ics?icsToken=98tyKuCrpjIrG9eduByDRowqGor4d-vztlxHgvp5vhjdARZQZSfeGedtCL52OeLG \nJoin Zoom Meeting\nhttps://rutgers.zoom.us/j/93891138854?pwd=c09wSUtEK3VWQzEyT2hvd0J2OWx1Zz09 \nMeeting ID: 938 9113 8854\nPassword: 076224 \nMeeting ID: 938 9113 8854\nFind your local number: https://rutgers.zoom.us/u/absAFuh1ND \nJoin by Skype for Business\nhttps://rutgers.zoom.us/skype/93891138854 \nIf you have any questions\, please <a href=”https://it.rutgers.edu/help-support/”>contact the Office of Information Technology Help Desk</a>
URL:https://gsa.rutgers.edu/event/gsa-executive-council-office-hours-45/
LOCATION:Zoom
CATEGORIES:GSA Hosted
END:VEVENT
BEGIN:VEVENT
DTSTART;TZID=UTC:20230207T090000
DTEND;TZID=UTC:20230207T100000
DTSTAMP:20260421T010248
CREATED:20230130T123015Z
LAST-MODIFIED:20230130T123015Z
UID:2853-1675760400-1675764000@gsa.rutgers.edu
SUMMARY:GSA Executive Council Office Hours
DESCRIPTION:The executive council of the GSA will hold weekly office hours on Tuesday and Wednesday from 9-10am over zoom. Please bring any questions you have about your GSO\, any fun projects you or your GSO are working on and would like GSA input and/or any questions or concerns you have as graduate students to these office hours. Our President\, Executive Vice President\, Treasurer and/or Secretary should be available at either one of these office hours to answer your questions or connect you with resources. \nTopic: GSA Office Hours\nTime: Feb 7\, 2023 09:00 AM Eastern Time (US and Canada)\nEvery week on Tue\, Wed\, until May 24\, 2023\, 32 occurrence(s)\nFeb 7\, 2023 09:00 AM\nFeb 8\, 2023 09:00 AM\nFeb 14\, 2023 09:00 AM\nFeb 15\, 2023 09:00 AM\nFeb 21\, 2023 09:00 AM\nFeb 22\, 2023 09:00 AM\nFeb 28\, 2023 09:00 AM\nMar 1\, 2023 09:00 AM\nMar 7\, 2023 09:00 AM\nMar 8\, 2023 09:00 AM\nMar 14\, 2023 09:00 AM\nMar 15\, 2023 09:00 AM\nMar 21\, 2023 09:00 AM\nMar 22\, 2023 09:00 AM\nMar 28\, 2023 09:00 AM\nMar 29\, 2023 09:00 AM\nApr 4\, 2023 09:00 AM\nApr 5\, 2023 09:00 AM\nApr 11\, 2023 09:00 AM\nApr 12\, 2023 09:00 AM\nApr 18\, 2023 09:00 AM\nApr 19\, 2023 09:00 AM\nApr 25\, 2023 09:00 AM\nApr 26\, 2023 09:00 AM\nMay 2\, 2023 09:00 AM\nMay 3\, 2023 09:00 AM\nMay 9\, 2023 09:00 AM\nMay 10\, 2023 09:00 AM\nMay 16\, 2023 09:00 AM\nMay 17\, 2023 09:00 AM\nMay 23\, 2023 09:00 AM\nMay 24\, 2023 09:00 AM\nPlease download and import the following iCalendar (.ics) files to your calendar system.\nWeekly: https://rutgers.zoom.us/meeting/tJclfuiprTMiH9DBgXbVcgDHOeOZliIZvQSA/ics?icsToken=98tyKuCrpjIrG9eduByDRowqGor4d-vztlxHgvp5vhjdARZQZSfeGedtCL52OeLG \nJoin Zoom Meeting\nhttps://rutgers.zoom.us/j/93891138854?pwd=c09wSUtEK3VWQzEyT2hvd0J2OWx1Zz09 \nMeeting ID: 938 9113 8854\nPassword: 076224 \nMeeting ID: 938 9113 8854\nFind your local number: https://rutgers.zoom.us/u/absAFuh1ND \nJoin by Skype for Business\nhttps://rutgers.zoom.us/skype/93891138854 \nIf you have any questions\, please <a href=”https://it.rutgers.edu/help-support/”>contact the Office of Information Technology Help Desk</a>
URL:https://gsa.rutgers.edu/event/gsa-executive-council-office-hours-44/
LOCATION:Zoom
CATEGORIES:GSA Hosted
END:VEVENT
BEGIN:VEVENT
DTSTART;TZID=UTC:20230206T190000
DTEND;TZID=UTC:20230206T200000
DTSTAMP:20260421T010248
CREATED:20230117T224341Z
LAST-MODIFIED:20230117T224341Z
UID:2794-1675710000-1675713600@gsa.rutgers.edu
SUMMARY:GSA Council Meeting: February 2023
DESCRIPTION:Council Meeting for Feb will be held on Feb 6th\, 2023 at 7 pm via Zoom. \nThe Zoom link will be shared on GetInvolved with all GSA members. \nIf any GSO is not a member of GSA on GetInvolved yet\, they are requested to do so. For any questions\, please email ec@gsa.rutgers.edu
URL:https://gsa.rutgers.edu/event/gsa-council-meeting-february-2023/
LOCATION:Zoom
CATEGORIES:Council Meeting,GSA Hosted
END:VEVENT
BEGIN:VEVENT
DTSTART;TZID=UTC:20221218T200000
DTEND;TZID=UTC:20221218T230000
DTSTAMP:20260421T010248
CREATED:20221205T153540Z
LAST-MODIFIED:20221205T153700Z
UID:2761-1671393600-1671404400@gsa.rutgers.edu
SUMMARY:GSA Free Movie @ RU Cinema: Avatar 2
DESCRIPTION:Watch the new Avatar 2 movie with unlimited popcorn and soda! \nPlease RSVP to get tickets. Limited spots. 1 guest limit. \n  \nTicket distribution: \nDate: Thursday\, December 15th 5pm-6pm \nLocation: Graduate Student Lounge\, Room 208\, 126 College Ave\, behind Panera Bread\, New Brunswick\, NJ 08901 \nNote: Tickets will be distributed on first come first serve basis. You will be emailed if there are remaining tickets.
URL:https://gsa.rutgers.edu/event/gsa-free-movie-ru-cinema-avatar-2/
LOCATION:Rutgers Cinema\, 105 Joyce Kilmer Ave\, Piscataway\, NJ\, United States
CATEGORIES:GSA Hosted
END:VEVENT
BEGIN:VEVENT
DTSTART;TZID=UTC:20221214T180000
DTEND;TZID=UTC:20221214T210000
DTSTAMP:20260421T010248
CREATED:20221114T151345Z
LAST-MODIFIED:20221201T183904Z
UID:2699-1671040800-1671051600@gsa.rutgers.edu
SUMMARY:GSA Ugly Sweater Holiday Dinner!
DESCRIPTION:Join GSA\, MBGSO\, Seeding Labs\, CSGSS\, EPS and RU ASM for the Holiday dinner! \nWear an ugly sweater and enjoy a buffet of Mediterranean\, Mexican and Indian food! \nPlease RSVP. \n  \n \n 
URL:https://gsa.rutgers.edu/event/gsa-ugly-sweater-holiday-dinner-2/
LOCATION:Livingston Student Center\, 84 Joyce Kilmer Ave\, Piscataway\, NJ\, United States
CATEGORIES:GSA Hosted
END:VEVENT
END:VCALENDAR