BEGIN:VCALENDAR
VERSION:2.0
PRODID:-//Graduate Student Association - ECPv6.7.0//NONSGML v1.0//EN
CALSCALE:GREGORIAN
METHOD:PUBLISH
X-ORIGINAL-URL:https://gsa.rutgers.edu
X-WR-CALDESC:Events for Graduate Student Association
REFRESH-INTERVAL;VALUE=DURATION:PT1H
X-Robots-Tag:noindex
X-PUBLISHED-TTL:PT1H
BEGIN:VTIMEZONE
TZID:UTC
BEGIN:STANDARD
TZOFFSETFROM:+0000
TZOFFSETTO:+0000
TZNAME:UTC
DTSTART:20260101T000000
END:STANDARD
END:VTIMEZONE
BEGIN:VEVENT
DTSTART;TZID=UTC:20260312T190000
DTEND;TZID=UTC:20260312T220000
DTSTAMP:20260424T054951
CREATED:20260329T193933Z
LAST-MODIFIED:20260329T193933Z
UID:4027-1773342000-1773352800@gsa.rutgers.edu
SUMMARY:GSA X RUSA Games Night
DESCRIPTION:🎲 GSA x RUSA Games Night — Before Spring Break \nJoin us for an evening of board games\, good vibes\, and great company. Whether you’re into competitive strategy games or just want to relax and meet new people\, Games Night is the perfect midweek break. \nStop by\, play a few games\, and unwind with the Rutgers community before spring break begins! ✨ \nDate: Thursday\, March 12\n⏰ 7:00 PM onwards\n📍 College Avenue Student Center\, Room 108 \nCome solo or bring a friend — All graduate and undergraduate students are welcome! ♟️🎉
URL:https://gsa.rutgers.edu/event/gsa-x-rusa-games-night-7/
LOCATION:College Ave Student Center\, 126 College Ave\, New Brunswick\, NJ\, 08901\, United States
END:VEVENT
END:VCALENDAR