BEGIN:VCALENDAR
VERSION:2.0
PRODID:-//Graduate Student Association - ECPv6.7.0//NONSGML v1.0//EN
CALSCALE:GREGORIAN
METHOD:PUBLISH
X-ORIGINAL-URL:https://gsa.rutgers.edu
X-WR-CALDESC:Events for Graduate Student Association
REFRESH-INTERVAL;VALUE=DURATION:PT1H
X-Robots-Tag:noindex
X-PUBLISHED-TTL:PT1H
BEGIN:VTIMEZONE
TZID:UTC
BEGIN:STANDARD
TZOFFSETFROM:+0000
TZOFFSETTO:+0000
TZNAME:UTC
DTSTART:20260101T000000
END:STANDARD
END:VTIMEZONE
BEGIN:VEVENT
DTSTART;TZID=UTC:20260219T190000
DTEND;TZID=UTC:20260219T220000
DTSTAMP:20260421T155703
CREATED:20260329T190901Z
LAST-MODIFIED:20260329T190901Z
UID:4007-1771527600-1771538400@gsa.rutgers.edu
SUMMARY:GSA X RUSA Games Night
DESCRIPTION:🎲 GSA x RUSA Games Night✨ \nUnwind\, recharge\, and enjoy the semester with our second Games Night of the spring! Whether you’re into strategy\, classic board games\, or just good company\, this is the perfect low-stress way to connect and have fun. \nCome solo or bring a friend — All graduate and undergraduate students are welcome! 🙌 \nDate: Thursday\, Feb 19\n⏰ 7:00–10:00 PM\n📍 126 College Ave\, Room 108 (G2) \nSee you at the table! ♟️😊
URL:https://gsa.rutgers.edu/event/gsa-x-rusa-games-night-5/
LOCATION:College Ave Student Center\, 126 College Ave\, New Brunswick\, NJ\, 08901\, United States
END:VEVENT
END:VCALENDAR