BEGIN:VCALENDAR
VERSION:2.0
PRODID:-//Graduate Student Association - ECPv6.7.0//NONSGML v1.0//EN
CALSCALE:GREGORIAN
METHOD:PUBLISH
X-ORIGINAL-URL:https://gsa.rutgers.edu
X-WR-CALDESC:Events for Graduate Student Association
REFRESH-INTERVAL;VALUE=DURATION:PT1H
X-Robots-Tag:noindex
X-PUBLISHED-TTL:PT1H
BEGIN:VTIMEZONE
TZID:UTC
BEGIN:STANDARD
TZOFFSETFROM:+0000
TZOFFSETTO:+0000
TZNAME:UTC
DTSTART:20260101T000000
END:STANDARD
END:VTIMEZONE
BEGIN:VEVENT
DTSTART;TZID=UTC:20260204T090000
DTEND;TZID=UTC:20260204T110000
DTSTAMP:20260423T220735
CREATED:20260329T185006Z
LAST-MODIFIED:20260329T190544Z
UID:3992-1770195600-1770202800@gsa.rutgers.edu
SUMMARY:Coffee and Breakfast Mixer
DESCRIPTION:☕ GSA Coffee & Breakfast — Spring 2026 Kickoff! 🥐 \nStart the semester on a cozy note and join us for our first Coffee & Breakfast event of Spring 2026! Stop by to grab a fresh cup of coffee\, enjoy breakfast\, and connect with fellow graduate students in a relaxed\, welcoming space. \nWhether you’re easing into the semester or just need a midweek pick-me-up\, we’d love to see you there. 💛 \nDate: Wednesday\, February 4\n⏰ 9:00 am – 11:00 am\n📍 Graduate Student Lounge\, 126 College Ave \nCome for the coffee\, stay for the community ☕✨
URL:https://gsa.rutgers.edu/event/coffee-and-breakfast-mixer-2/
LOCATION:Graduate Student Lounge\, 126 College Ave\, New Brunswick\, NJ\, 08901\, United States
END:VEVENT
END:VCALENDAR