BEGIN:VCALENDAR
VERSION:2.0
PRODID:-//Graduate Student Association - ECPv6.7.0//NONSGML v1.0//EN
CALSCALE:GREGORIAN
METHOD:PUBLISH
X-WR-CALNAME:Graduate Student Association
X-ORIGINAL-URL:https://gsa.rutgers.edu
X-WR-CALDESC:Events for Graduate Student Association
REFRESH-INTERVAL;VALUE=DURATION:PT1H
X-Robots-Tag:noindex
X-PUBLISHED-TTL:PT1H
BEGIN:VTIMEZONE
TZID:UTC
BEGIN:STANDARD
TZOFFSETFROM:+0000
TZOFFSETTO:+0000
TZNAME:UTC
DTSTART:20250101T000000
END:STANDARD
END:VTIMEZONE
BEGIN:VEVENT
DTSTART;TZID=UTC:20251120T190000
DTEND;TZID=UTC:20251120T190000
DTSTAMP:20260425T155107
CREATED:20251128T203350Z
LAST-MODIFIED:20251128T203444Z
UID:3928-1763665200-1763665200@gsa.rutgers.edu
SUMMARY:GSA x RUSA presents Games Night
DESCRIPTION:GSA Tabletop Gaming Committee @ Rutgers \nThursday\, November 20th \, 7:00 PM Onwards \nCollege Avenue Student Center\, Room 108 \nGrads and Undergrads are Welcomed \n  \nGraduate and undergraduate studies can be intense — that’s why the GSA Tabletop Gaming Committee is here to help you unwind\, recharge\, and connect! Whether you’re into classic board games\, strategic challenges\, or just want to hang out with fellow grad students in a low-pressure setting\, this is the perfect opportunity. \n  \nExpect:\nCasual and competitive board games\nA welcoming\, inclusive environment\nA fun break from academic stress\nCome solo or bring a friend — no experience needed\, just a willingness to play and have fun
URL:https://gsa.rutgers.edu/event/gsa-x-rusa-presents-games-night/
LOCATION:College Ave Student Center\, 126 College Ave\, New Brunswick\, NJ\, 08901\, United States
END:VEVENT
END:VCALENDAR