BEGIN:VCALENDAR
VERSION:2.0
PRODID:-//Graduate Student Association - ECPv6.7.0//NONSGML v1.0//EN
CALSCALE:GREGORIAN
METHOD:PUBLISH
X-ORIGINAL-URL:https://gsa.rutgers.edu
X-WR-CALDESC:Events for Graduate Student Association
REFRESH-INTERVAL;VALUE=DURATION:PT1H
X-Robots-Tag:noindex
X-PUBLISHED-TTL:PT1H
BEGIN:VTIMEZONE
TZID:UTC
BEGIN:STANDARD
TZOFFSETFROM:+0000
TZOFFSETTO:+0000
TZNAME:UTC
DTSTART:20250101T000000
END:STANDARD
END:VTIMEZONE
BEGIN:VEVENT
DTSTART;TZID=UTC:20251111T190000
DTEND;TZID=UTC:20251111T200000
DTSTAMP:20260420T220722
CREATED:20251020T024354Z
LAST-MODIFIED:20251022T150550Z
UID:3885-1762887600-1762891200@gsa.rutgers.edu
SUMMARY:GSA 2025-2026 Council Meeting Series
DESCRIPTION:GSA Council Meeting \n🕖 When: November 11th\, 7 pm Onwards \n🏠Where: Graduate Student Lounge\, 126 College Ave\, New Brunswick\, NJ 08901 \nJoin us for the monthly GSA Council Meeting to discuss upcoming campus events\, budget updates\, and student initiatives. All graduate students are welcome—your input helps shape future GSA activities.
URL:https://gsa.rutgers.edu/event/gsa-2025-2026-council-meeting-series-3/
LOCATION:Graduate Student Lounge\, 126 College Ave\, New Brunswick\, NJ\, 08901\, United States
END:VEVENT
END:VCALENDAR