BEGIN:VCALENDAR
VERSION:2.0
PRODID:-//Graduate Student Association - ECPv6.7.0//NONSGML v1.0//EN
CALSCALE:GREGORIAN
METHOD:PUBLISH
X-ORIGINAL-URL:https://gsa.rutgers.edu
X-WR-CALDESC:Events for Graduate Student Association
REFRESH-INTERVAL;VALUE=DURATION:PT1H
X-Robots-Tag:noindex
X-PUBLISHED-TTL:PT1H
BEGIN:VTIMEZONE
TZID:UTC
BEGIN:STANDARD
TZOFFSETFROM:+0000
TZOFFSETTO:+0000
TZNAME:UTC
DTSTART:20250101T000000
END:STANDARD
END:VTIMEZONE
BEGIN:VEVENT
DTSTART;TZID=UTC:20250903T090000
DTEND;TZID=UTC:20250903T110000
DTSTAMP:20260420T221631
CREATED:20250827T045752Z
LAST-MODIFIED:20250827T045752Z
UID:3714-1756890000-1756897200@gsa.rutgers.edu
SUMMARY:Coffee and Breakfast
DESCRIPTION:📢 Graduate Student Association – Coffee & Breakfast Event \nThe Graduate Student Association (GSA) invites all graduate students to join us for a morning of coffee\, breakfast\, and community. This is a great opportunity to connect with fellow graduate students\, share experiences\, and start the day with good food and conversations. \n☕ Come for the coffee\, stay for the connections!
URL:https://gsa.rutgers.edu/event/coffee-and-breakfast/
LOCATION:Graduate Student Lounge\, 126 College Ave\, New Brunswick\, NJ\, 08901\, United States
END:VEVENT
END:VCALENDAR