BEGIN:VCALENDAR
VERSION:2.0
PRODID:-//Graduate Student Association - ECPv6.7.0//NONSGML v1.0//EN
CALSCALE:GREGORIAN
METHOD:PUBLISH
X-ORIGINAL-URL:https://gsa.rutgers.edu
X-WR-CALDESC:Events for Graduate Student Association
REFRESH-INTERVAL;VALUE=DURATION:PT1H
X-Robots-Tag:noindex
X-PUBLISHED-TTL:PT1H
BEGIN:VTIMEZONE
TZID:UTC
BEGIN:STANDARD
TZOFFSETFROM:+0000
TZOFFSETTO:+0000
TZNAME:UTC
DTSTART:20240101T000000
END:STANDARD
END:VTIMEZONE
BEGIN:VEVENT
DTSTART;TZID=UTC:20240424T160000
DTEND;TZID=UTC:20240424T190000
DTSTAMP:20260421T014123
CREATED:20240401T021349Z
LAST-MODIFIED:20240405T152218Z
UID:3451-1713974400-1713985200@gsa.rutgers.edu
SUMMARY:GSA Backyard BBQ Party
DESCRIPTION:  \n🎉🍔 Get Ready to Grill & Chill! Join Us for a Backyard BBQ Bash! 🌭🥳 \nJoin us for an afternoon of mouthwatering barbecue at our backyard BBQ party! Bring your appetite for an afternoon filled with laughter and good times.
URL:https://gsa.rutgers.edu/event/gsa-backyard-bbq-party/
LOCATION:NJ
END:VEVENT
END:VCALENDAR