BEGIN:VCALENDAR
VERSION:2.0
PRODID:-//Graduate Student Association - ECPv6.7.0//NONSGML v1.0//EN
CALSCALE:GREGORIAN
METHOD:PUBLISH
X-ORIGINAL-URL:https://gsa.rutgers.edu
X-WR-CALDESC:Events for Graduate Student Association
REFRESH-INTERVAL;VALUE=DURATION:PT1H
X-Robots-Tag:noindex
X-PUBLISHED-TTL:PT1H
BEGIN:VTIMEZONE
TZID:UTC
BEGIN:STANDARD
TZOFFSETFROM:+0000
TZOFFSETTO:+0000
TZNAME:UTC
DTSTART:20230101T000000
END:STANDARD
END:VTIMEZONE
BEGIN:VEVENT
DTSTART;TZID=UTC:20231208T090000
DTEND;TZID=UTC:20231208T110000
DTSTAMP:20260419T011924
CREATED:20231201T153848Z
LAST-MODIFIED:20231204T142949Z
UID:3413-1702026000-1702033200@gsa.rutgers.edu
SUMMARY:GSA Coffee and Breakfast Mixer
DESCRIPTION:Join us for a delightful morning of warmth\, conversation\, and scrumptious delights at our Coffee and Breakfast event at the Graduate Student Lounge.\nWhether you’re here to kickstart your day or savour a liesurely morning\, GSA would be delighted to host you !
URL:https://gsa.rutgers.edu/event/gsa-coffee-and-breakfast-mixer-8/
LOCATION:Graduate Student Lounge\, 126 College Ave\, New Brunswick\, NJ\, 08901\, United States
END:VEVENT
BEGIN:VEVENT
DTSTART;TZID=UTC:20231208T173000
DTEND;TZID=UTC:20231208T203000
DTSTAMP:20260419T011924
CREATED:20231204T152944Z
LAST-MODIFIED:20231204T152944Z
UID:3430-1702056600-1702067400@gsa.rutgers.edu
SUMMARY:Holiday Makerspace Event
DESCRIPTION:Join the Nutritional Sciences GSO and GSA at our “Holiday Makerspace Event” and make your own customized coffee mugs and tumblers. \nBring your designs or photos you want to put on the outside of the mugs/tumblers. Makerspace assistant staff will also be there to help you. \nWe will cover the cost of up to $8 per graduate student. Snacks and drinks will be provided. \nDue to space capacity\, we can only accommodate up to 30 people. \nPrices are: $3.00 for the white mugs | $4.00 for black mugs (that turn white when hot) |$7.50 for the tumblers
URL:https://gsa.rutgers.edu/event/holiday-makerspace-event/
LOCATION:NJ
END:VEVENT
END:VCALENDAR