BEGIN:VCALENDAR
VERSION:2.0
PRODID:-//Graduate Student Association - ECPv6.7.0//NONSGML v1.0//EN
CALSCALE:GREGORIAN
METHOD:PUBLISH
X-WR-CALNAME:Graduate Student Association
X-ORIGINAL-URL:https://gsa.rutgers.edu
X-WR-CALDESC:Events for Graduate Student Association
REFRESH-INTERVAL;VALUE=DURATION:PT1H
X-Robots-Tag:noindex
X-PUBLISHED-TTL:PT1H
BEGIN:VTIMEZONE
TZID:UTC
BEGIN:STANDARD
TZOFFSETFROM:+0000
TZOFFSETTO:+0000
TZNAME:UTC
DTSTART:20230101T000000
END:STANDARD
END:VTIMEZONE
BEGIN:VEVENT
DTSTART;TZID=UTC:20231121T120000
DTEND;TZID=UTC:20231121T140000
DTSTAMP:20260423T093305
CREATED:20231104T164905Z
LAST-MODIFIED:20231104T164905Z
UID:3395-1700568000-1700575200@gsa.rutgers.edu
SUMMARY:GSA Gradsgiving
DESCRIPTION:As the autumn leaves fall and the air turns crisp\, it’s the perfect time to come together and celebrate the spirit of gratitude. We invite you to a delightful Gradsgiving Lunch that promises to fill your heart and your belly with joy. \nPlease RSVP to ensure we have a seat reserved just for you. If you think you won’t be able to honor the RSVP\, we request you to cancel it so that other grads can be offered the seat.
URL:https://gsa.rutgers.edu/event/gsa-gradsgiving/
LOCATION:Great Hall\, Busch\, 675 Hoes Lane\, Piscataway
END:VEVENT
END:VCALENDAR