BEGIN:VCALENDAR
VERSION:2.0
PRODID:-//Graduate Student Association - ECPv6.7.0//NONSGML v1.0//EN
CALSCALE:GREGORIAN
METHOD:PUBLISH
X-ORIGINAL-URL:https://gsa.rutgers.edu
X-WR-CALDESC:Events for Graduate Student Association
REFRESH-INTERVAL;VALUE=DURATION:PT1H
X-Robots-Tag:noindex
X-PUBLISHED-TTL:PT1H
BEGIN:VTIMEZONE
TZID:UTC
BEGIN:STANDARD
TZOFFSETFROM:+0000
TZOFFSETTO:+0000
TZNAME:UTC
DTSTART:20230101T000000
END:STANDARD
END:VTIMEZONE
BEGIN:VEVENT
DTSTART;TZID=UTC:20231020T190000
DTEND;TZID=UTC:20231020T220000
DTSTAMP:20260420T222808
CREATED:20231016T155105Z
LAST-MODIFIED:20231016T155223Z
UID:3375-1697828400-1697839200@gsa.rutgers.edu
SUMMARY:GSA Singles Mixer
DESCRIPTION:Cuffing szn is officially here and back! If you are looking for love and romance or just some IRL dopamine and good conversation\, we got you. Take a chance on love and mingle with other Rutgers students over drinks and food! Come to our Singles Mixer and mingle with other Rutgers students on Friday\, October 20 from 7pm-10pm at the Dept. of Chemistry and Chemical Biology on Busch Campus with free soft drinks (and BYOB) and food. The address is 123 Bevier Rd\, Piscataway\, NJ 08854. All orientations and identities welcome! \nHave someone in mind or free styling? Take a risk. Trust the process. And have fun. Your (love or not) life will never be the same!
URL:https://gsa.rutgers.edu/event/gsa-singles-mixer/
LOCATION:NJ
END:VEVENT
END:VCALENDAR