BEGIN:VCALENDAR
VERSION:2.0
PRODID:-//Graduate Student Association - ECPv6.7.0//NONSGML v1.0//EN
CALSCALE:GREGORIAN
METHOD:PUBLISH
X-ORIGINAL-URL:https://gsa.rutgers.edu
X-WR-CALDESC:Events for Graduate Student Association
REFRESH-INTERVAL;VALUE=DURATION:PT1H
X-Robots-Tag:noindex
X-PUBLISHED-TTL:PT1H
BEGIN:VTIMEZONE
TZID:UTC
BEGIN:STANDARD
TZOFFSETFROM:+0000
TZOFFSETTO:+0000
TZNAME:UTC
DTSTART:20230101T000000
END:STANDARD
END:VTIMEZONE
BEGIN:VEVENT
DTSTART;TZID=UTC:20231004T090000
DTEND;TZID=UTC:20231004T110000
DTSTAMP:20260421T033148
CREATED:20231009T152503Z
LAST-MODIFIED:20231009T152503Z
UID:3350-1696410000-1696417200@gsa.rutgers.edu
SUMMARY:GSA Coffee & Breakfast Mixer
DESCRIPTION:Join us for a delightful morning of warmth\, conversation\, and scrumptious delights at our Coffee and Breakfast event at the Graduate Student Lounge.\nWhether you’re here to kickstart your day or savour a liesurely morning\, GSA would be delighted to host you !
URL:https://gsa.rutgers.edu/event/gsa-coffee-breakfast-mixer-2/
LOCATION:Graduate Student Lounge\, 126 College Ave\, New Brunswick\, NJ\, 08901\, United States
END:VEVENT
END:VCALENDAR