BEGIN:VCALENDAR
VERSION:2.0
PRODID:-//Graduate Student Association - ECPv6.7.0//NONSGML v1.0//EN
CALSCALE:GREGORIAN
METHOD:PUBLISH
X-ORIGINAL-URL:https://gsa.rutgers.edu
X-WR-CALDESC:Events for Graduate Student Association
REFRESH-INTERVAL;VALUE=DURATION:PT1H
X-Robots-Tag:noindex
X-PUBLISHED-TTL:PT1H
BEGIN:VTIMEZONE
TZID:UTC
BEGIN:STANDARD
TZOFFSETFROM:+0000
TZOFFSETTO:+0000
TZNAME:UTC
DTSTART:20230101T000000
END:STANDARD
END:VTIMEZONE
BEGIN:VEVENT
DTSTART;TZID=UTC:20230928T190000
DTEND;TZID=UTC:20230928T203000
DTSTAMP:20260422T131405
CREATED:20230829T155108Z
LAST-MODIFIED:20230829T160730Z
UID:3189-1695927600-1695933000@gsa.rutgers.edu
SUMMARY:GSA Game Night
DESCRIPTION:Join us for a night of laughter\, strategy\, and camaraderie at our Board Games Night!\nWhether you’re a seasoned board game enthusiast or a curious beginner\, this is your chance to relax\, unwind\, and have some fun.\nGrab your friends\, bring your competitive spirit\, and be prepared for an unforgettable evening of games\, snacks\, and good times.\nDon’t miss out on the chance to make memories and forge new friendships over classic and modern board games!
URL:https://gsa.rutgers.edu/event/gsa-game-night/
LOCATION:Graduate Student Lounge\, 126 College Ave\, New Brunswick\, NJ\, 08901\, United States
END:VEVENT
END:VCALENDAR