BEGIN:VCALENDAR
VERSION:2.0
PRODID:-//Graduate Student Association - ECPv6.7.0//NONSGML v1.0//EN
CALSCALE:GREGORIAN
METHOD:PUBLISH
X-ORIGINAL-URL:https://gsa.rutgers.edu
X-WR-CALDESC:Events for Graduate Student Association
REFRESH-INTERVAL;VALUE=DURATION:PT1H
X-Robots-Tag:noindex
X-PUBLISHED-TTL:PT1H
BEGIN:VTIMEZONE
TZID:UTC
BEGIN:STANDARD
TZOFFSETFROM:+0000
TZOFFSETTO:+0000
TZNAME:UTC
DTSTART:20230101T000000
END:STANDARD
END:VTIMEZONE
BEGIN:VEVENT
DTSTART;VALUE=DATE:20230912
DTEND;VALUE=DATE:20230916
DTSTAMP:20260420T222449
CREATED:20230911T135639Z
LAST-MODIFIED:20230911T135715Z
UID:3265-1694476800-1694822399@gsa.rutgers.edu
SUMMARY:Black Welcome Week 2023
DESCRIPTION:On behalf of the PRCC\, We am proud to announce our inaugural Black Welcome Week\, taking place September 11-15th. Black Welcome Week is a week-long series of programs introducing Black students to the center\, Black faculty and staff\, Black student leadership opportunities\, and campus resources. Black Welcome Week is intended to help students acclimate to campus\, empower them\, support them in finding community\, and increase their sense of belonging.  The week culminates with the Black Student Social\, our signature welcome celebration that provides an intentional connection for incoming students to engage with student leaders. \nThe week’s events include: \n\nTuesday\, September 12\,  9:30AM – Black Cartoons & Cereal\nTuesday\, September 12\,  5:30 PM – Black Graduate Student Mixer\nWednesday\, September 13\, 7:30PM – Black @ Rutgers Panel Discussion\nFriday\, September 15\, 3:00PM – Black Student Social
URL:https://gsa.rutgers.edu/event/black-welcome-week-2023/
LOCATION:Paul Robeson Cultural Center Lawn (Busch Campus)\, 600 Bartholomew Rd\, Piscataway\, New Jersey
CATEGORIES:Public Events
END:VEVENT
BEGIN:VEVENT
DTSTART;TZID=UTC:20230913T090000
DTEND;TZID=UTC:20230913T230000
DTSTAMP:20260420T222449
CREATED:20230829T154959Z
LAST-MODIFIED:20230829T160610Z
UID:3187-1694595600-1694646000@gsa.rutgers.edu
SUMMARY:GSA Coffee & Breakfast Mixer
DESCRIPTION:Join us for a delightful morning of warmth\, conversation\, and scrumptious delights at our Coffee and Breakfast event.\nWhether you’re here to kickstart your day or savour a liesurely morning\, GSA would be delighted to host you !
URL:https://gsa.rutgers.edu/event/gsa-coffee-breakfast-mixer/
LOCATION:CCB Building Lounge\, 123 Bevier Road\, Piscataway\, NJ\, 08854\, United States
CATEGORIES:GSA Hosted
END:VEVENT
BEGIN:VEVENT
DTSTART;TZID=UTC:20230913T170000
DTEND;TZID=UTC:20230913T190000
DTSTAMP:20260420T222449
CREATED:20230911T140204Z
LAST-MODIFIED:20230911T140235Z
UID:3272-1694624400-1694631600@gsa.rutgers.edu
SUMMARY:LGBTQIA+ Graduate Student Social
DESCRIPTION:Graduate students in the LGBTQIA+ community are invited to meet and greet with us! Learn more about campus resources for our community and make new friends. Free food provided. Presented with GRADient\, the LGBTQIA+ student organization for graduate and professional students. \n 
URL:https://gsa.rutgers.edu/event/3272/
LOCATION:Center for Social Justice Education & LGBT Communities
END:VEVENT
END:VCALENDAR