BEGIN:VCALENDAR
VERSION:2.0
PRODID:-//Graduate Student Association - ECPv6.7.0//NONSGML v1.0//EN
CALSCALE:GREGORIAN
METHOD:PUBLISH
X-ORIGINAL-URL:https://gsa.rutgers.edu
X-WR-CALDESC:Events for Graduate Student Association
REFRESH-INTERVAL;VALUE=DURATION:PT1H
X-Robots-Tag:noindex
X-PUBLISHED-TTL:PT1H
BEGIN:VTIMEZONE
TZID:UTC
BEGIN:STANDARD
TZOFFSETFROM:+0000
TZOFFSETTO:+0000
TZNAME:UTC
DTSTART:20230101T000000
END:STANDARD
END:VTIMEZONE
BEGIN:VEVENT
DTSTART;TZID=UTC:20230525T163000
DTEND;TZID=UTC:20230525T183000
DTSTAMP:20260422T185112
CREATED:20230515T193834Z
LAST-MODIFIED:20230515T201733Z
UID:3136-1685032200-1685039400@gsa.rutgers.edu
SUMMARY:MBGSO and Rutgers Seeding Labs Korean BBQ Party
DESCRIPTION:Celebrate the end of the spring semester with MBGSO and Rutgers Seeding Labs! Join us to make your own Korean BBQ bowl\, sip bubble tea and play some lawn games with your friends. All grad students\, postdocs and faculty are welcome to attend!\n\nPlease RSVP: https://rutgers.campuslabs.com/engage/event/9090706. In the event of rain\, we will hold it in the Dean’s Conference Room 123.
URL:https://gsa.rutgers.edu/event/mbgso-and-rutgers-seeding-labs-korean-bbq-party/
LOCATION:RWJMS Research Tower Patio\, 675 Hoes Lane West\, Piscataway\, NJ\, 08854\, United States
CATEGORIES:GSO Hosted
END:VEVENT
END:VCALENDAR