BEGIN:VCALENDAR
VERSION:2.0
PRODID:-//Graduate Student Association - ECPv6.7.0//NONSGML v1.0//EN
CALSCALE:GREGORIAN
METHOD:PUBLISH
X-ORIGINAL-URL:https://gsa.rutgers.edu
X-WR-CALDESC:Events for Graduate Student Association
REFRESH-INTERVAL;VALUE=DURATION:PT1H
X-Robots-Tag:noindex
X-PUBLISHED-TTL:PT1H
BEGIN:VTIMEZONE
TZID:UTC
BEGIN:STANDARD
TZOFFSETFROM:+0000
TZOFFSETTO:+0000
TZNAME:UTC
DTSTART:20230101T000000
END:STANDARD
END:VTIMEZONE
BEGIN:VEVENT
DTSTART;TZID=UTC:20230511T110000
DTEND;TZID=UTC:20230511T150000
DTSTAMP:20260421T162809
CREATED:20230426T142147Z
LAST-MODIFIED:20230426T142147Z
UID:3104-1683802800-1683817200@gsa.rutgers.edu
SUMMARY:Rutgers Seeding Labs: Donuts for Change Fundraiser
DESCRIPTION:We are also a Krispy Kreme donut fundraiser to raise money to support life-changing research in developing countries. You can pre-order your box at a discounted price via bit.ly/ruseedinglabsdonuts2023. The pre-order form will be open until Friday\, May 5\, 2023. Orders can be picked up on Thursday\, 5/11 from 11:00am – 3:00pm near Woody’s Cafe on Busch Campus. We will be selling donuts day-of as well  If you have any questions\, don’t hesitate to send us a message at ruseedinglabs@gmail.com.
URL:https://gsa.rutgers.edu/event/rutgers-seeding-labs-donuts-for-change-fundraiser/
LOCATION:Great Hall\, Busch\, 675 Hoes Lane\, Piscataway
CATEGORIES:GSO Hosted
END:VEVENT
BEGIN:VEVENT
DTSTART;TZID=UTC:20230511T113000
DTEND;TZID=UTC:20230511T173000
DTSTAMP:20260421T162809
CREATED:20230426T142032Z
LAST-MODIFIED:20230426T142032Z
UID:3101-1683804600-1683826200@gsa.rutgers.edu
SUMMARY:Rutgers Seeding Labs and RWJMS SNMA Blood and Platelet Drive
DESCRIPTION:Save the date! Rutgers Seeding Labs and RWJMS Student National Medical Association (SNMA) are sponsoring a blood and platelet blood drive on Thursday\, 5/11 from 11:30am – 5:30pm in the Great Hall on Busch Campus (near Woody’s Café). Donors will receive a $5 coffee gift card and subs from Jersey Mike’s! Appointments are highly recommended. Schedule yours today: bit.ly/rutgersspring2023blooddrive 
URL:https://gsa.rutgers.edu/event/rutgers-seeding-labs-and-rwjms-snma-blood-and-platelet-drive/
LOCATION:Great Hall\, Busch\, 675 Hoes Lane\, Piscataway
CATEGORIES:GSO Hosted
END:VEVENT
END:VCALENDAR