BEGIN:VCALENDAR
VERSION:2.0
PRODID:-//Graduate Student Association - ECPv6.7.0//NONSGML v1.0//EN
CALSCALE:GREGORIAN
METHOD:PUBLISH
X-ORIGINAL-URL:https://gsa.rutgers.edu
X-WR-CALDESC:Events for Graduate Student Association
REFRESH-INTERVAL;VALUE=DURATION:PT1H
X-Robots-Tag:noindex
X-PUBLISHED-TTL:PT1H
BEGIN:VTIMEZONE
TZID:UTC
BEGIN:STANDARD
TZOFFSETFROM:+0000
TZOFFSETTO:+0000
TZNAME:UTC
DTSTART:20230101T000000
END:STANDARD
END:VTIMEZONE
BEGIN:VEVENT
DTSTART;TZID=UTC:20230425T110000
DTEND;TZID=UTC:20230425T130000
DTSTAMP:20260424T010416
CREATED:20230424T131520Z
LAST-MODIFIED:20230424T131520Z
UID:3093-1682420400-1682427600@gsa.rutgers.edu
SUMMARY:Combatting Hate and Bias in New Jersey: A Campus Conversation with Attorney General Matthew J. Platkin
DESCRIPTION:Interested in civil righhts and criminal justice? Join us on a discussion with New Jersey Attorney General and members of the Division on Civil Rights and the Division of Criminal Justice to discuss the rise in bias and hate incidents in New Jersey on April 25\, from 11AM-1PM at the Livingston Student Center in the Livingston Hall. During this event\, you will learn about resources available to combat hate and bias\, and to share personal experiences. \nScan the QR code to register! Hope to see you there!
URL:https://gsa.rutgers.edu/event/combatting-hate-and-bias-in-new-jersey-a-campus-conversation-with-attorney-general-matthew-j-platkin/
LOCATION:Livingston Student Center\, 84 Joyce Kilmer Ave\, Piscataway\, NJ\, United States
CATEGORIES:Public Events
ORGANIZER;CN="Rutgers University":MAILTO:rich@sese.io
END:VEVENT
END:VCALENDAR