BEGIN:VCALENDAR
VERSION:2.0
PRODID:-//Graduate Student Association - ECPv6.7.0//NONSGML v1.0//EN
CALSCALE:GREGORIAN
METHOD:PUBLISH
X-ORIGINAL-URL:https://gsa.rutgers.edu
X-WR-CALDESC:Events for Graduate Student Association
REFRESH-INTERVAL;VALUE=DURATION:PT1H
X-Robots-Tag:noindex
X-PUBLISHED-TTL:PT1H
BEGIN:VTIMEZONE
TZID:UTC
BEGIN:STANDARD
TZOFFSETFROM:+0000
TZOFFSETTO:+0000
TZNAME:UTC
DTSTART:20230101T000000
END:STANDARD
END:VTIMEZONE
BEGIN:VEVENT
DTSTART;TZID=UTC:20230331T160000
DTEND;TZID=UTC:20230331T180000
DTSTAMP:20260420T225912
CREATED:20230327T145921Z
LAST-MODIFIED:20230327T145921Z
UID:3014-1680278400-1680285600@gsa.rutgers.edu
SUMMARY:SJE Queer Grad Student Social: Paint and Sip
DESCRIPTION:
URL:https://gsa.rutgers.edu/event/sje-queer-grad-student-social-paint-and-sip/
LOCATION:NJ
CATEGORIES:GSO Hosted
ORGANIZER;CN="SJE":MAILTO:sje@rutgers.edu
END:VEVENT
END:VCALENDAR