BEGIN:VCALENDAR
VERSION:2.0
PRODID:-//Graduate Student Association - ECPv6.7.0//NONSGML v1.0//EN
CALSCALE:GREGORIAN
METHOD:PUBLISH
X-ORIGINAL-URL:https://gsa.rutgers.edu
X-WR-CALDESC:Events for Graduate Student Association
REFRESH-INTERVAL;VALUE=DURATION:PT1H
X-Robots-Tag:noindex
X-PUBLISHED-TTL:PT1H
BEGIN:VTIMEZONE
TZID:UTC
BEGIN:STANDARD
TZOFFSETFROM:+0000
TZOFFSETTO:+0000
TZNAME:UTC
DTSTART:20220101T000000
END:STANDARD
END:VTIMEZONE
BEGIN:VEVENT
DTSTART;TZID=UTC:20221214T180000
DTEND;TZID=UTC:20221214T210000
DTSTAMP:20260421T175301
CREATED:20221114T151345Z
LAST-MODIFIED:20221201T183904Z
UID:2699-1671040800-1671051600@gsa.rutgers.edu
SUMMARY:GSA Ugly Sweater Holiday Dinner!
DESCRIPTION:Join GSA\, MBGSO\, Seeding Labs\, CSGSS\, EPS and RU ASM for the Holiday dinner! \nWear an ugly sweater and enjoy a buffet of Mediterranean\, Mexican and Indian food! \nPlease RSVP. \n  \n \n 
URL:https://gsa.rutgers.edu/event/gsa-ugly-sweater-holiday-dinner-2/
LOCATION:Livingston Student Center\, 84 Joyce Kilmer Ave\, Piscataway\, NJ\, United States
CATEGORIES:GSA Hosted
END:VEVENT
BEGIN:VEVENT
DTSTART;TZID=UTC:20221214T200000
DTEND;TZID=UTC:20221214T210000
DTSTAMP:20260421T175301
CREATED:20221128T154624Z
LAST-MODIFIED:20221128T154624Z
UID:2724-1671048000-1671051600@gsa.rutgers.edu
SUMMARY:Rutgers GCF Virtual Prayer Meeting
DESCRIPTION:Dec. 14th: Virtual Prayer Meeting  \nWe invite you to join Rutgers Graduate Christian Fellowship (GCF) for our final prayer meeting of the Fall 2022 semester. We will take time to check-in with each other and then will pray for each other\, our campus and other matters on our heart using scripture to guide us. Even if you are unable to attend the meetings we entreat you to Let us pray for you! \n\nDate & Time: Wednesday\, December 14th at 8pm-9pm ET (All late comers are welcome!)\nLocation: via zoom\, please check getINVOLVED for the link
URL:https://gsa.rutgers.edu/event/rutgers-gcf-virtual-prayer-meeting/
LOCATION:Zoom
CATEGORIES:GSO Hosted
END:VEVENT
END:VCALENDAR