BEGIN:VCALENDAR
VERSION:2.0
PRODID:-//Graduate Student Association - ECPv6.7.0//NONSGML v1.0//EN
CALSCALE:GREGORIAN
METHOD:PUBLISH
X-ORIGINAL-URL:https://gsa.rutgers.edu
X-WR-CALDESC:Events for Graduate Student Association
REFRESH-INTERVAL;VALUE=DURATION:PT1H
X-Robots-Tag:noindex
X-PUBLISHED-TTL:PT1H
BEGIN:VTIMEZONE
TZID:UTC
BEGIN:STANDARD
TZOFFSETFROM:+0000
TZOFFSETTO:+0000
TZNAME:UTC
DTSTART:20220101T000000
END:STANDARD
END:VTIMEZONE
BEGIN:VEVENT
DTSTART;TZID=UTC:20221112T120000
DTEND;TZID=UTC:20221113T120000
DTSTAMP:20260420T204319
CREATED:20221024T113703Z
LAST-MODIFIED:20221024T113703Z
UID:2630-1668254400-1668340800@gsa.rutgers.edu
SUMMARY:EcoGSA camping trip
DESCRIPTION:The Ecology department is going camping at Worthington State Forest\, near the Delaware Water Gap. We’ll meet at the campground on Old Mine Road on Saturday afternoon to set up campsites. Participants are responsible for their own transportation and camping gear. \nPlease RSVP
URL:https://gsa.rutgers.edu/event/ecogsa-camping-trip/
LOCATION:NJ
CATEGORIES:GSO Hosted
END:VEVENT
END:VCALENDAR