BEGIN:VCALENDAR
VERSION:2.0
PRODID:-//Graduate Student Association - ECPv6.7.0//NONSGML v1.0//EN
CALSCALE:GREGORIAN
METHOD:PUBLISH
X-ORIGINAL-URL:https://gsa.rutgers.edu
X-WR-CALDESC:Events for Graduate Student Association
REFRESH-INTERVAL;VALUE=DURATION:PT1H
X-Robots-Tag:noindex
X-PUBLISHED-TTL:PT1H
BEGIN:VTIMEZONE
TZID:UTC
BEGIN:STANDARD
TZOFFSETFROM:+0000
TZOFFSETTO:+0000
TZNAME:UTC
DTSTART:20220101T000000
END:STANDARD
END:VTIMEZONE
BEGIN:VEVENT
DTSTART;TZID=UTC:20221020T190000
DTEND;TZID=UTC:20221020T220000
DTSTAMP:20260420T204648
CREATED:20221018T155017Z
LAST-MODIFIED:20221018T155018Z
UID:2622-1666292400-1666303200@gsa.rutgers.edu
SUMMARY:GSA Game Night @ Esports Center\, Busch Student Center
DESCRIPTION:Play online games with your friends & peers while having snacks! \nThursday\, 7-10 pm at Rutgers Esports Center\, Busch Student Center. \n  \nPlease RSVP
URL:https://gsa.rutgers.edu/event/gsa-game-night-esports-center-busch-student-center-2/
LOCATION:Busch Student Center\, 604 Bartholomew Rd Suite 152\, Piscataway\, NJ 08854
CATEGORIES:GSA Hosted
END:VEVENT
END:VCALENDAR