BEGIN:VCALENDAR
VERSION:2.0
PRODID:-//Graduate Student Association - ECPv6.7.0//NONSGML v1.0//EN
CALSCALE:GREGORIAN
METHOD:PUBLISH
X-ORIGINAL-URL:https://gsa.rutgers.edu
X-WR-CALDESC:Events for Graduate Student Association
REFRESH-INTERVAL;VALUE=DURATION:PT1H
X-Robots-Tag:noindex
X-PUBLISHED-TTL:PT1H
BEGIN:VTIMEZONE
TZID:UTC
BEGIN:STANDARD
TZOFFSETFROM:+0000
TZOFFSETTO:+0000
TZNAME:UTC
DTSTART:20220101T000000
END:STANDARD
END:VTIMEZONE
BEGIN:VEVENT
DTSTART;TZID=UTC:20221005T090000
DTEND;TZID=UTC:20221005T100000
DTSTAMP:20260424T063311
CREATED:20221003T123015Z
LAST-MODIFIED:20221003T123015Z
UID:2491-1664960400-1664964000@gsa.rutgers.edu
SUMMARY:GSA Executive Council Office Hours
DESCRIPTION:The executive council of the GSA will hold weekly office hours on Tuesday and Wednesday from 9-10am over zoom. Please bring any questions you have about your GSO\, any fun projects you or your GSO are working on and would like GSA input and/or any questions or concerns you have as graduate students to these office hours. Our President\, Executive Vice President\, Treasurer and/or Secretary should be available at either one of these office hours to answer your questions or connect you with resources. \nTopic: GSA Office Hours\nEvery week on Tue\, Wed\, until Dec 21\, 2022\, 28 occurrence(s)\nSep 20\, 2022 09:00 AM\nSep 21\, 2022 09:00 AM\nSep 27\, 2022 09:00 AM\nSep 28\, 2022 09:00 AM\nOct 4\, 2022 09:00 AM\nOct 5\, 2022 09:00 AM\nOct 11\, 2022 09:00 AM\nOct 12\, 2022 09:00 AM\nOct 18\, 2022 09:00 AM\nOct 19\, 2022 09:00 AM\nOct 25\, 2022 09:00 AM\nOct 26\, 2022 09:00 AM\nNov 1\, 2022 09:00 AM\nNov 2\, 2022 09:00 AM\nNov 8\, 2022 09:00 AM\nNov 9\, 2022 09:00 AM\nNov 15\, 2022 09:00 AM\nNov 16\, 2022 09:00 AM\nNov 29\, 2022 09:00 AM\nNov 30\, 2022 09:00 AM\nDec 6\, 2022 09:00 AM\nDec 7\, 2022 09:00 AM\nDec 13\, 2022 09:00 AM\nDec 14\, 2022 09:00 AM\nDec 20\, 2022 09:00 AM\nDec 21\, 2022 09:00 AM \nJoin Zoom Meeting\nhttps://rutgers.zoom.us/j/91039278440 \nMeeting ID: 910 3927 8440\nPassword: 037866
URL:https://gsa.rutgers.edu/event/gsa-executive-council-office-hours-27/
LOCATION:Zoom
CATEGORIES:GSA Hosted
END:VEVENT
BEGIN:VEVENT
DTSTART;TZID=UTC:20221005T090000
DTEND;TZID=UTC:20221005T110000
DTSTAMP:20260424T063311
CREATED:20220930T151145Z
LAST-MODIFIED:20220930T151146Z
UID:2485-1664960400-1664967600@gsa.rutgers.edu
SUMMARY:GSA Coffee and Breakfast Mixer
DESCRIPTION:Meet GSA and your peers for a chat over coffee and bagels! Please RSVP \nWednesday\, October 5th\, 2022 \n9 – 11 AM \nAcademic Building – 5th Floor – Room 5190 – College Ave \nPlease RSVP
URL:https://gsa.rutgers.edu/event/gsa-coffee-and-breakfast-mixer/
LOCATION:Academic Building\, 15 Seminary Pl\, New Brunswick\, NJ 08901
CATEGORIES:GSA Hosted
END:VEVENT
END:VCALENDAR