BEGIN:VCALENDAR
VERSION:2.0
PRODID:-//Graduate Student Association - ECPv6.7.0//NONSGML v1.0//EN
CALSCALE:GREGORIAN
METHOD:PUBLISH
X-ORIGINAL-URL:https://gsa.rutgers.edu
X-WR-CALDESC:Events for Graduate Student Association
REFRESH-INTERVAL;VALUE=DURATION:PT1H
X-Robots-Tag:noindex
X-PUBLISHED-TTL:PT1H
BEGIN:VTIMEZONE
TZID:UTC
BEGIN:STANDARD
TZOFFSETFROM:+0000
TZOFFSETTO:+0000
TZNAME:UTC
DTSTART:20220101T000000
END:STANDARD
END:VTIMEZONE
BEGIN:VEVENT
DTSTART;TZID=UTC:20220909T150000
DTEND;TZID=UTC:20220909T180000
DTSTAMP:20260421T182405
CREATED:20220906T151846Z
LAST-MODIFIED:20220906T151923Z
UID:2365-1662735600-1662746400@gsa.rutgers.edu
SUMMARY:Graduate Student Resource Fair
DESCRIPTION:Welcome to Rutgers\, New Graduate Students! Come meet various campus centers and graduate student organizations at our resource fair at the President’s Tent across from Hurtado Health Center. There will be giveaways\, helpful resources for graduate students\, free food\, speakers from several campus organizations and a mixer to meet your fellow new students! \nThe first 100 students to RSVP and attend the the fair will receive a special gift. New and old graduate students are all welcome! \n  \n  \n 
URL:https://gsa.rutgers.edu/event/graduate-student-resource-fair/
LOCATION:President’s Tent on College Avenue\, 11 Bishop Place New Brunswick\, NJ
CATEGORIES:GSA Hosted
END:VEVENT
END:VCALENDAR