BEGIN:VCALENDAR
VERSION:2.0
PRODID:-//Graduate Student Association - ECPv6.7.0//NONSGML v1.0//EN
CALSCALE:GREGORIAN
METHOD:PUBLISH
X-ORIGINAL-URL:https://gsa.rutgers.edu
X-WR-CALDESC:Events for Graduate Student Association
REFRESH-INTERVAL;VALUE=DURATION:PT1H
X-Robots-Tag:noindex
X-PUBLISHED-TTL:PT1H
BEGIN:VTIMEZONE
TZID:UTC
BEGIN:STANDARD
TZOFFSETFROM:+0000
TZOFFSETTO:+0000
TZNAME:UTC
DTSTART:20220101T000000
END:STANDARD
END:VTIMEZONE
BEGIN:VEVENT
DTSTART;TZID=UTC:20220520T090000
DTEND;TZID=UTC:20220520T160000
DTSTAMP:20260420T213946
CREATED:20220506T135828Z
LAST-MODIFIED:20220506T135828Z
UID:2230-1653037200-1653062400@gsa.rutgers.edu
SUMMARY:NJGVRC Student Day & Gun Violence Research Day
DESCRIPTION:The Gun Violence Research Center Research Day\n9:00 a.m.-3:45 p.m. (May 20)\nThe New Jersey Gun Violence Research Center (GVRC) is one of just three state-funded gun violence research centers in the entire country\, which means we have an important role in gun violence prevention and research. The goals of the GVRC are to conduct and fund cutting-edge scientific research on gun violence prevention\, and also serve as a voice that makes scientific information available to all communities impacted by gun violence. During this free event on May 20th\,  we will showcase gun violence research being done by our leadership team\, GVRC post-doctoral and doctoral students\, community partners\, and researchers we have funded this year. This conference is not looking to engage with simply an academic audience.  Instead\, we’d like this to be a truly community-engaged event\, with community members\, those involved in violence interruption work\, policy makers\, journalists\, students\, educators\, the military\, and others attending. Register at https://hopin.com/events/the-njgvrc-research-day/registration   \n 
URL:https://gsa.rutgers.edu/event/njgvrc-student-day-gun-violence-research-day/
LOCATION:NJ
CATEGORIES:Public Events
ORGANIZER;CN="Rutgers University":MAILTO:rich@sese.io
END:VEVENT
BEGIN:VEVENT
DTSTART;TZID=UTC:20220520T160000
DTEND;TZID=UTC:20220520T200000
DTSTAMP:20260420T213946
CREATED:20220506T140325Z
LAST-MODIFIED:20220506T140423Z
UID:2234-1653062400-1653076800@gsa.rutgers.edu
SUMMARY:Rutgers Seeding Labs x Panera Fundraiser
DESCRIPTION:Seeding Labs has a fundraiser on Friday\, May 20\, 2022 from 4pm-8pm in collaboration with the Panera Bread on College Ave.
URL:https://gsa.rutgers.edu/event/rutgers-seeding-labs-x-panera-fundraiser/
LOCATION:Panera Bread\, 126 College Ave\, New Brunswick\, NJ\, 08901\, United States
CATEGORIES:GSO Hosted
END:VEVENT
END:VCALENDAR