BEGIN:VCALENDAR
VERSION:2.0
PRODID:-//Graduate Student Association - ECPv6.7.0//NONSGML v1.0//EN
CALSCALE:GREGORIAN
METHOD:PUBLISH
X-ORIGINAL-URL:https://gsa.rutgers.edu
X-WR-CALDESC:Events for Graduate Student Association
REFRESH-INTERVAL;VALUE=DURATION:PT1H
X-Robots-Tag:noindex
X-PUBLISHED-TTL:PT1H
BEGIN:VTIMEZONE
TZID:UTC
BEGIN:STANDARD
TZOFFSETFROM:+0000
TZOFFSETTO:+0000
TZNAME:UTC
DTSTART:20220101T000000
END:STANDARD
END:VTIMEZONE
BEGIN:VEVENT
DTSTART;TZID=UTC:20220204T190000
DTEND;TZID=UTC:20220204T210000
DTSTAMP:20260421T021326
CREATED:20220127T184427Z
LAST-MODIFIED:20220131T141553Z
UID:1734-1644001200-1644008400@gsa.rutgers.edu
SUMMARY:GSA Trivia Night: Marvel Universe
DESCRIPTION:Join GSA for a virtual Marvel Universe trivia night on Friday\, February 4th\, 2022\, at 7 pm. \nParticipants can join as individuals or teams! (Max 4 members per team) \nRegistration Link : https://rutgers.campuslabs.com/engage/event/7807113 \nDinner will be reimbursed up to $15 \nPlease RSVP!
URL:https://gsa.rutgers.edu/event/gsa-trivia-night-marvel-cinematic-universe/
LOCATION:Zoom
CATEGORIES:GSA Hosted
END:VEVENT
END:VCALENDAR