BEGIN:VCALENDAR
VERSION:2.0
PRODID:-//Graduate Student Association - ECPv6.7.0//NONSGML v1.0//EN
CALSCALE:GREGORIAN
METHOD:PUBLISH
X-WR-CALNAME:Graduate Student Association
X-ORIGINAL-URL:https://gsa.rutgers.edu
X-WR-CALDESC:Events for Graduate Student Association
REFRESH-INTERVAL;VALUE=DURATION:PT1H
X-Robots-Tag:noindex
X-PUBLISHED-TTL:PT1H
BEGIN:VTIMEZONE
TZID:UTC
BEGIN:STANDARD
TZOFFSETFROM:+0000
TZOFFSETTO:+0000
TZNAME:UTC
DTSTART:20210101T000000
END:STANDARD
END:VTIMEZONE
BEGIN:VEVENT
DTSTART;TZID=UTC:20211101T183000
DTEND;TZID=UTC:20211101T193000
DTSTAMP:20260420T063415
CREATED:20211025T134121Z
LAST-MODIFIED:20211025T134121Z
UID:1346-1635791400-1635795000@gsa.rutgers.edu
SUMMARY:Eagleton Alumni Panel
DESCRIPTION:Come network with alumni of the Eagleton Fellowship and Undergraduate Associates Programs. Moderated by Francine Newsome Pfeiffer\, Rutgers Vice President for Federal Relations and Adjunct Faculty. \nPanelists will discuss their current positions\, career paths\, and advice for students with current Undergraduate Associates and the audience. Panelists include: \n\nElizabeth Besen – Senior Vice President and Global Head of Counterparty Relationship Management\, D.E. Shaw & Co. (92′ Fellow)\nHeidi Breaux – Clinical Therapist\, Tulane University Center for Sport & Center for Brain Health  and LGBTQIA+ Advocate (’04 Associate)\nDavid Cole – Technical Co-Lead\, New Jersey Office of Innovation COVID-19 Vaccination Program (’07 Associate)\nMelanie Santos Grant – Founder and Managing Partner\, 2ndGenPartners (’99 Fellow)\nSarah Kan – Director of State Public Policy\, Novartis (’94 Associate)\n\nMonday\, November 1st at 6:30 pm EST via Zoom.\nA virtual program open to all current Rutgers students and Eagleton Institute alumni \nLearn more.
URL:https://gsa.rutgers.edu/event/eagleton-alumni-panel/
LOCATION:NJ
CATEGORIES:Public Events
END:VEVENT
BEGIN:VEVENT
DTSTART;TZID=UTC:20211101T190000
DTEND;TZID=UTC:20211101T200000
DTSTAMP:20260420T063415
CREATED:20211022T155717Z
LAST-MODIFIED:20211025T170445Z
UID:1336-1635793200-1635796800@gsa.rutgers.edu
SUMMARY:GSA Council Meeting - November
DESCRIPTION:Council Meeting for November will be held on November 1st\, 2021 at 7 pm via Zoom. The Zoom link will be shared on GetInvolved with all GSA members. If any GSO is not a member of GSA on GetInvolved yet\, they are requested to do so. For any questions\, please email events@gsa.rutgers.edu \nPlease see the Meeting Agenda below – \n\nGreetings\nVote to approve new GSA appointments\n\nSecretary: Rahul Upadhya\nVP of Events and Programming: Matilda Mercer\n\n\nRecognition of Late Groups\nReport on the State of the GSA\n\nPresident’s Report\nEVP’s Report\n\nGeneral updates\n\n\nTreasurer’s Report\n\nUpdates on event pre-approvals/protocols\nFunding and Recognition of Late GSOs\n\n\nProfessional/Academic Development Director\n\nMeeting with the Office of Career Exploration & Success (CES)\n\n\nVice President of Events and Programming\n\nVirtual Mindfulness\nTreasure Hunt at Zimmerli\n\n\n\n\nHealth and Nutrition Committee\n\nPast event: Milk Tea Fall Kick-off!  Success!\nUpcoming events:\n\nEverything oats.\n\nWorkshop or in-person\n\n\nDecember Hot chocolate/Apple cider!\n\n\nSend us your food pics for #FoodieFriday posts!\n\n\nMental Health Committee\n\nPast events\, turnout \nPreliminary data from the mental health survey\nInclude links to resources on the official GSA site\n\n\nOpen Positions\nGSO Announcements\nAny Other Business?\nAdjournment
URL:https://gsa.rutgers.edu/event/gsa-council-meeting-november/
LOCATION:NJ
CATEGORIES:Council Meeting,GSA Hosted
END:VEVENT
END:VCALENDAR