BEGIN:VCALENDAR
VERSION:2.0
PRODID:-//Graduate Student Association - ECPv6.7.0//NONSGML v1.0//EN
CALSCALE:GREGORIAN
METHOD:PUBLISH
X-ORIGINAL-URL:https://gsa.rutgers.edu
X-WR-CALDESC:Events for Graduate Student Association
REFRESH-INTERVAL;VALUE=DURATION:PT1H
X-Robots-Tag:noindex
X-PUBLISHED-TTL:PT1H
BEGIN:VTIMEZONE
TZID:UTC
BEGIN:STANDARD
TZOFFSETFROM:+0000
TZOFFSETTO:+0000
TZNAME:UTC
DTSTART:20210101T000000
END:STANDARD
END:VTIMEZONE
BEGIN:VEVENT
DTSTART;TZID=UTC:20211029T200000
DTEND;TZID=UTC:20211029T230000
DTSTAMP:20260424T004148
CREATED:20211011T174614Z
LAST-MODIFIED:20211011T180900Z
UID:1184-1635537600-1635548400@gsa.rutgers.edu
SUMMARY:Halloween Party!
DESCRIPTION:Join GSA\, MBGSO\, and CCB this Halloween for free food and drinks on 10/29\, from 8 – 11 pm @ Livingston Student Center (Hall A & B). PLEASE RSVP TO ATTEND!
URL:https://gsa.rutgers.edu/event/halloween-party/
LOCATION:Livingston Student Center\, 84 Joyce Kilmer Ave\, Piscataway\, NJ\, United States
CATEGORIES:GSA Hosted,GSO Hosted
END:VEVENT
BEGIN:VEVENT
DTSTART;TZID=UTC:20211029T200000
DTEND;TZID=UTC:20211029T230000
DTSTAMP:20260424T004148
CREATED:20211015T192910Z
LAST-MODIFIED:20211015T192910Z
UID:1246-1635537600-1635548400@gsa.rutgers.edu
SUMMARY:THRILLER: A QTPOC Reception
DESCRIPTION:Friday\, October 29th @ 8 – 11PM \nTrayes Hall\, Douglass Student Center \n\nJoin us for a “silent” dance party under the black lights! We’ll provide headphones and you choose which DJ to dance to! Enjoy free food\, glowing giveaways\, and community with queer and trans people of color. It’s Halloween weekend and costumes are welcome! Allies are invited AND we ask all attendees to honor this as a community space centering QTPOC. \nPresented with the Cultural Center Collaborative\, Cook/Douglass Residence Life\, and Douglass Residential College.
URL:https://gsa.rutgers.edu/event/thriller-a-qtpoc-reception/
LOCATION:NJ
CATEGORIES:Public Events
ORGANIZER;CN="Rutgers University":MAILTO:rich@sese.io
END:VEVENT
END:VCALENDAR