BEGIN:VCALENDAR
VERSION:2.0
PRODID:-//Graduate Student Association - ECPv6.7.0//NONSGML v1.0//EN
CALSCALE:GREGORIAN
METHOD:PUBLISH
X-ORIGINAL-URL:https://gsa.rutgers.edu
X-WR-CALDESC:Events for Graduate Student Association
REFRESH-INTERVAL;VALUE=DURATION:PT1H
X-Robots-Tag:noindex
X-PUBLISHED-TTL:PT1H
BEGIN:VTIMEZONE
TZID:UTC
BEGIN:STANDARD
TZOFFSETFROM:+0000
TZOFFSETTO:+0000
TZNAME:UTC
DTSTART:20210101T000000
END:STANDARD
END:VTIMEZONE
BEGIN:VEVENT
DTSTART;TZID=UTC:20211028T110000
DTEND;TZID=UTC:20211028T120000
DTSTAMP:20260418T200001
CREATED:20211025T133937Z
LAST-MODIFIED:20211025T133937Z
UID:1344-1635418800-1635422400@gsa.rutgers.edu
SUMMARY:Pizza & Politics: A Conversation with Yael Bromberg
DESCRIPTION:Join CYPP for a guest lecture with Yael Bromberg\, election law expert\, and Rutgers alumna\, about the role of the 26th Amendment in protecting young voters from discrimination in voting. \nThursday\, October 28th at 11 am via Zoom
URL:https://gsa.rutgers.edu/event/pizza-politics-a-conversation-with-yael-bromberg/
LOCATION:NJ
CATEGORIES:Public Events
END:VEVENT
BEGIN:VEVENT
DTSTART;TZID=UTC:20211028T120000
DTEND;TZID=UTC:20211028T130000
DTSTAMP:20260418T200001
CREATED:20211011T190829Z
LAST-MODIFIED:20211011T190922Z
UID:1206-1635422400-1635426000@gsa.rutgers.edu
SUMMARY:Virtual Tours of the Whitney Collection
DESCRIPTION:ART HISTORY FROM HOME\nCOLLECTIVE MEMORY IN CONTEMPORARY BLACK ART\nThursday\, October 28\n12 pm \nThis session\, led by Ayanna Dozier\, looks at how contemporary Black artists draw on collective memory to play with\, challenge and transform notions of identity. We will consider works by Faith Ringgold\, Betye Saar\, and Kerry James Marshall to explore how these artists subvert American culture and the art-historical canon. \nREGISTER
URL:https://gsa.rutgers.edu/event/1206/
LOCATION:NJ
CATEGORIES:Public Events
END:VEVENT
BEGIN:VEVENT
DTSTART;TZID=UTC:20211028T150000
DTEND;TZID=UTC:20211028T170000
DTSTAMP:20260418T200001
CREATED:20211015T191634Z
LAST-MODIFIED:20211015T191634Z
UID:1233-1635433200-1635440400@gsa.rutgers.edu
SUMMARY:Diversity Up Premier Video Event (CABM)
DESCRIPTION:You are cordially invited\n\nto the premiere of DIVERSITY UP\n\n\nRSVP Link (QR code) \n\n\n \n\nA Rutgers-affiliated YouTube channel that seeks to cultivate inspiring ideas and stories about diversity\, equity\, and inclusion. \n\n\n  \n\n\nThursday // October 28th\, 2021 \n\n\n3 – 4 PM INTRODUCING DIVERSITY UP \n\n\n4 – 5 PM LAUNCH PARTY \n\n\n  \n\n\nCenter for Advanced Biotechnology & Medicine \n\n\nBusch Campus\, 679 Hoes Lane West\, Piscataway\, NJ 08854 \n\n\n  \n\n\nFree food & beverages included. Masks are required. We give away gift cards! \n\n\n*Please note: This event will be recorded for distribution through various Rutgers outlets. All attendees agree to the possibility of appearing on these recordings by virtue of attending or participating in the event. \n\n\n  \n\n\nSeats are limited and registration is required. Once your registration is confirmed\, you will receive a virtual invitation ticket.  \n\n\n  \n\n\nPlease RSVP by October 26th\, Tuesday \n\n\nContact us: diversity@cabm.rutgers.edu
URL:https://gsa.rutgers.edu/event/diversity-up-premier-video-event-cabm/
LOCATION:Center for Advanced Biotechnology & Medicine\, 679 Hoes Lane West\,\, Piscataway\, NJ\, 08854\, United States
CATEGORIES:Public Events
END:VEVENT
END:VCALENDAR