BEGIN:VCALENDAR
VERSION:2.0
PRODID:-//Graduate Student Association - ECPv6.7.0//NONSGML v1.0//EN
CALSCALE:GREGORIAN
METHOD:PUBLISH
X-ORIGINAL-URL:https://gsa.rutgers.edu
X-WR-CALDESC:Events for Graduate Student Association
REFRESH-INTERVAL;VALUE=DURATION:PT1H
X-Robots-Tag:noindex
X-PUBLISHED-TTL:PT1H
BEGIN:VTIMEZONE
TZID:UTC
BEGIN:STANDARD
TZOFFSETFROM:+0000
TZOFFSETTO:+0000
TZNAME:UTC
DTSTART:20210101T000000
END:STANDARD
END:VTIMEZONE
BEGIN:VEVENT
DTSTART;TZID=UTC:20211027T080000
DTEND;TZID=UTC:20211027T090000
DTSTAMP:20260421T155604
CREATED:20211011T120521Z
LAST-MODIFIED:20211011T120521Z
UID:1166-1635321600-1635325200@gsa.rutgers.edu
SUMMARY:GSA Executive Council Office Hours
DESCRIPTION:Location: https://rutgers.zoom.us/j/93051669638 \nTopic: GSA Executive Office Hours \nTime: This is a recurring meeting Meet anytime \nJoin Zoom Meeting \nhttps://rutgers.zoom.us/j/93051669638 \nJoin by SIP \n93051669638@zoomcrc.com \nMeeting ID: 930 5166 9638 \nPassword: 457254 \nOne tap mobile \n+13126266799\,\,93051669638# US (Chicago) \n+16465588656\,\,93051669638# US (New York) \nJoin By Phone \n+1 312 626 6799 US (Chicago) \n+1 646 558 8656 US (New York) \n+1 301 715 8592 US (Washington DC) \n+1 346 248 7799 US (Houston) \n+1 669 900 9128 US (San Jose) \n+1 253 215 8782 US (Tacoma) \nMeeting ID: 930 5166 9638 \nFind your local number: https://rutgers.zoom.us/u/abccN3vtvI \nJoin by Skype for Business \nhttps://rutgers.zoom.us/skype/93051669638
URL:https://gsa.rutgers.edu/event/gsa-executive-council-office-hours-4/
LOCATION:NJ
CATEGORIES:Discussion,GSA Hosted
END:VEVENT
BEGIN:VEVENT
DTSTART;TZID=UTC:20211027T170000
DTEND;TZID=UTC:20211027T180000
DTSTAMP:20260421T155604
CREATED:20211018T171229Z
LAST-MODIFIED:20211018T171229Z
UID:1260-1635354000-1635357600@gsa.rutgers.edu
SUMMARY:Rutgers Seeding Labs October Meeting
DESCRIPTION:Are you interested in learning about how to get involved in empowering scientists in developing research communities? Come by our October meeting to meet new people\, socialize\, and check out what you can do to be part of the global mission. “Talent is everywhere. Resources are not”! \nRSVP and order your drink at bit.ly/seedinglabstea2021. If you have any questions or concerns\, feel free to reach out to ruseedinglabs@gmail.com. \n 
URL:https://gsa.rutgers.edu/event/rutgers-seeding-labs-october-meeting/
LOCATION:NJ
CATEGORIES:GSO Hosted
END:VEVENT
BEGIN:VEVENT
DTSTART;TZID=UTC:20211027T190000
DTEND;TZID=UTC:20211027T200000
DTSTAMP:20260421T155604
CREATED:20211101T153750Z
LAST-MODIFIED:20211101T153750Z
UID:1390-1635361200-1635364800@gsa.rutgers.edu
SUMMARY:Book of Hebrews Virtual Bible Study
DESCRIPTION:Join Rutgers Graduate Christian Fellowship for Bible Study on Wednesday\, October 27 @ 7 pm over Zoom. Our former GSO president La’Nora will lead us in our ongoing conversation about faith in the book of Hebrews. Bring your favorite meal and enjoy a good conversation! RSVP at ru.graduate.christian@gmail.com.
URL:https://gsa.rutgers.edu/event/book-of-hebrews-virtual-bible-study/
LOCATION:NJ
CATEGORIES:GSO Hosted
END:VEVENT
END:VCALENDAR