BEGIN:VCALENDAR
VERSION:2.0
PRODID:-//Graduate Student Association - ECPv6.7.0//NONSGML v1.0//EN
CALSCALE:GREGORIAN
METHOD:PUBLISH
X-ORIGINAL-URL:https://gsa.rutgers.edu
X-WR-CALDESC:Events for Graduate Student Association
REFRESH-INTERVAL;VALUE=DURATION:PT1H
X-Robots-Tag:noindex
X-PUBLISHED-TTL:PT1H
BEGIN:VTIMEZONE
TZID:UTC
BEGIN:STANDARD
TZOFFSETFROM:+0000
TZOFFSETTO:+0000
TZNAME:UTC
DTSTART:20210101T000000
END:STANDARD
END:VTIMEZONE
BEGIN:VEVENT
DTSTART;TZID=UTC:20211008T120000
DTEND;TZID=UTC:20211008T130000
DTSTAMP:20260418T190111
CREATED:20211007T171134Z
LAST-MODIFIED:20211007T171134Z
UID:1109-1633694400-1633698000@gsa.rutgers.edu
SUMMARY:Recruitment Insider Talk
DESCRIPTION:A special Recruitment Insider talk featuring Michael Schwemmer\, Manager\, Machine Learning Group at Upstart\, and Catherine Reynolds\, Recruiting Lead\, Machine Learning at Upstart will be held on Friday\, October 8 at 12pm ET \nTune in to this special Invitations to Industry seminar with the following Zoom link: \nhttps://us06web.zoom.us/my/erdosinstitute\n\n\n\n\nFor more information on our guest speakers and companies\, please see the links below.\n\n\nMichael Schwemmer: https://www.linkedin.com/in/michael-schwemmer-472567a7/\n\nCatherine Reynolds: https://www.linkedin.com/in/catrey/ \n \nUpstart: https://www.upstart.com\n\nZoom Link: https://us06web.zoom.us/my/erdosinstitute\n\n\nIn order to access this seminar\, you will need to be logged into your Zoom account. This is an added security measure to prevent “Zoom-bombing” or disruptions by internet users who are not connected to the Erdős Institute.
URL:https://gsa.rutgers.edu/event/recruitment-insider-talk/
LOCATION:NJ
CATEGORIES:Public Events
END:VEVENT
BEGIN:VEVENT
DTSTART;TZID=UTC:20211008T140000
DTEND;TZID=UTC:20211008T233000
DTSTAMP:20260418T190111
CREATED:20211007T182220Z
LAST-MODIFIED:20211007T184736Z
UID:1137-1633701600-1633735800@gsa.rutgers.edu
SUMMARY:Graduate and Professional Student DeStress and Appreciation Week
DESCRIPTION:Do What Moves U Fitness Challenge: Exercise as Medicine Virtually all Month\nSign up below to receive information all month!\nCo-sponsored by Rutgers Recreation\, Health and Wellness \nReceive workouts and exercises to do anywhere on campus\, online activity tracking for accountability\, daily motivation from an online coach\, and health and wellness tips to staying healthy on campus from the top Rutgers health professionals. Weekly Raffled Amazon Prizes to ALL participants who log 70\,000 (average 10\,000 a day) steps/week \nFor more information and to sign up go to:http://graduatestudentlife.rutgers.edu/event/3932/ \n\nFriendship Fridays: Football 101\nFriday\, October 8 | 4:00 p.m. – 5:00 p.m. EST | Virtual Program via Zoom\nJoin Rutgers Global for this weekly “pop-up lounge” open to all Rutgers students and scholars: “Friendship Fridays” from 4:00 p.m. – 5:00 p.m. EDT.  Enjoy games\, activities\, conversations\, —and make new friends from around the world!  You don’t have to be an international student to join the fun\, it is open to all Rutgers students along with the staff and faculty that work with them. Curious about the rules of American football? Join us this week to learn how the game is played and how RU fans cheer on the Scarlet Knights on the field – just in time for Homecoming Weekend! \nFor more information go to:https://global.rutgers.edu/friendship-fridays-football-101 \n\n\nHomecoming Week: Student Centers and Activities Pop Up Tent\nFriday\, October 8 | 2:00 p.m. – 4:00 p.m. EST | In-person Event\nSponsored by Rutgers Student Centers and Activities: Student Involvement and Leadership \nWe’re popping up over on Morrell Street on Friday\, October 8 from 2:00 p.m. – 4:00 p.m. We’ll have music\, giveaways\, and Insomnia Cookies. \nFor more information go to: Homecoming.rutgers.edu \nLocation: Morrell Street\, 126 College Avenue\, Behind Panera\, near the College Student Center \n\n\nLate Knight: Homecoming Edition\nFriday\, October 8 | 9:00 p.m. – 12:00 a.m. EST | In-person Event\nSponsored by Rutgers Student Centers and Activities: Student Involvement and Leadership \nJoin Student Centers & Activities for Late Knight: Homecoming Edition on Friday\, October 8\, 2021\, from 9 PM – 12 AM. This event will feature a DJ & dance floor\, photo booth\, giveaways\, and food! Stop by the tent on Morrell Street near the College Avenue Student Center for a night of good vibes & scarlet pride! Show off your Rutgers spirit during Homecoming week with @RutgersUSCA! \nFor more information go to:Homecoming.rutgers.edu \nLocation: Morrell Street\, 126 College Avenue\, Behind Panera\, near the College Student Center
URL:https://gsa.rutgers.edu/event/graduate-and-professional-student-destress-and-appreciation-week/
LOCATION:NJ
CATEGORIES:Public Events
ORGANIZER;CN="Rutgers University":MAILTO:rich@sese.io
END:VEVENT
END:VCALENDAR