BEGIN:VCALENDAR
VERSION:2.0
PRODID:-//Graduate Student Association - ECPv6.7.0//NONSGML v1.0//EN
CALSCALE:GREGORIAN
METHOD:PUBLISH
X-ORIGINAL-URL:https://gsa.rutgers.edu
X-WR-CALDESC:Events for Graduate Student Association
REFRESH-INTERVAL;VALUE=DURATION:PT1H
X-Robots-Tag:noindex
X-PUBLISHED-TTL:PT1H
BEGIN:VTIMEZONE
TZID:UTC
BEGIN:STANDARD
TZOFFSETFROM:+0000
TZOFFSETTO:+0000
TZNAME:UTC
DTSTART:20210101T000000
END:STANDARD
END:VTIMEZONE
BEGIN:VEVENT
DTSTART;TZID=UTC:20211006T170000
DTEND;TZID=UTC:20211006T180000
DTSTAMP:20260418T190644
CREATED:20211004T123137Z
LAST-MODIFIED:20211004T123137Z
UID:1085-1633539600-1633543200@gsa.rutgers.edu
SUMMARY:SPAR Policy Memo Workshop
DESCRIPTION:Join SPAR’s Policy Memo Workshop (10/6 at 5 pm) to learn how to make your case to policymakers and the public through the science-policy memo format! Beginners welcome\, no experience necessary. Following the workshop\, interested students can put their new skills into action by joining a memo-writing team to submit to the Journal of Science Policy & Governance. RSVP at bit.ly/3uiLbwn for the workshop! \nAlso\, mark your calendars for SPAR’s upcoming general body meeting on October 20th. The event will be hybrid (location TBD). Please see their website (https://sites.rutgers.edu/scipolru/) for up-to-date information. \nInstagram: @scipolru #SciComm #SciencePolicy #SPAR \nTwitter: @scipolru #SciComm #SciencePolicy #SPAR \nFacebook group: Science Policy and Advocacy at Rutgers (SPAR)
URL:https://gsa.rutgers.edu/event/spar-policy-memo-workshop/
LOCATION:NJ
CATEGORIES:GSO Hosted
END:VEVENT
END:VCALENDAR