BEGIN:VCALENDAR
VERSION:2.0
PRODID:-//Graduate Student Association - ECPv6.7.0//NONSGML v1.0//EN
CALSCALE:GREGORIAN
METHOD:PUBLISH
X-WR-CALNAME:Graduate Student Association
X-ORIGINAL-URL:https://gsa.rutgers.edu
X-WR-CALDESC:Events for Graduate Student Association
REFRESH-INTERVAL;VALUE=DURATION:PT1H
X-Robots-Tag:noindex
X-PUBLISHED-TTL:PT1H
BEGIN:VTIMEZONE
TZID:UTC
BEGIN:STANDARD
TZOFFSETFROM:+0000
TZOFFSETTO:+0000
TZNAME:UTC
DTSTART:20210101T000000
END:STANDARD
END:VTIMEZONE
BEGIN:VEVENT
DTSTART;TZID=UTC:20210920T180000
DTEND;TZID=UTC:20210920T190000
DTSTAMP:20260420T064030
CREATED:20210913T120334Z
LAST-MODIFIED:20210913T120334Z
UID:921-1632160800-1632164400@gsa.rutgers.edu
SUMMARY:Babs Siperstein Humanities & Medicine Seminar
DESCRIPTION:The first seminar is scheduled for Monday\, September 20\, 2021\, with Simone Sandler. Her presentation is titled A Grandmother’s Journey on LGBTQIA+ Issues. The registration link is available here and is also noted in the attached seminar flyer. Please share this information with your respective networks as everyone is welcome.
URL:https://gsa.rutgers.edu/event/babs-siperstein-humanities-medicine-seminar/
LOCATION:NJ
CATEGORIES:Public Events
ORGANIZER;CN="Rutgers University":MAILTO:rich@sese.io
END:VEVENT
END:VCALENDAR