BEGIN:VCALENDAR
VERSION:2.0
PRODID:-//Graduate Student Association - ECPv6.7.0//NONSGML v1.0//EN
CALSCALE:GREGORIAN
METHOD:PUBLISH
X-WR-CALNAME:Graduate Student Association
X-ORIGINAL-URL:https://gsa.rutgers.edu
X-WR-CALDESC:Events for Graduate Student Association
REFRESH-INTERVAL;VALUE=DURATION:PT1H
X-Robots-Tag:noindex
X-PUBLISHED-TTL:PT1H
BEGIN:VTIMEZONE
TZID:UTC
BEGIN:STANDARD
TZOFFSETFROM:+0000
TZOFFSETTO:+0000
TZNAME:UTC
DTSTART:20210101T000000
END:STANDARD
END:VTIMEZONE
BEGIN:VEVENT
DTSTART;VALUE=DATE:20210915
DTEND;VALUE=DATE:20210916
DTSTAMP:20260420T092725
CREATED:20210829T170439Z
LAST-MODIFIED:20210829T170826Z
UID:800-1631664000-1631750399@gsa.rutgers.edu
SUMMARY:Last Day for Funding Applications
DESCRIPTION:https://gsa.rutgers.edu/for-gsos-2/2021-2022-ay-recognition-and-funding-application/
URL:https://gsa.rutgers.edu/event/last-day-for-funding-applications/
LOCATION:NJ
END:VEVENT
BEGIN:VEVENT
DTSTART;TZID=UTC:20210915T170000
DTEND;TZID=UTC:20210915T180000
DTSTAMP:20260420T092725
CREATED:20210920T153932Z
LAST-MODIFIED:20210920T154002Z
UID:977-1631725200-1631728800@gsa.rutgers.edu
SUMMARY:SPAR Semester Kickoff Meeting
DESCRIPTION:Interested in #SciencePolicy and #SciComm? Join SPAR (Science Policy and Advocacy at Rutgers) for their semester kickoff meeting on Wednesday\, 9/15 at 5 pm. They will discuss what science policy is\, what jobs in this field consist of\, and what they as an org hope to accomplish this year. Food will be provided too! The meeting will be in-person at B228 Nelson\, Busch Campus\, Rutgers – New Brunswick. There is a carpool available from Newark and a Zoom option. Please RSVP here: https://forms.gle/89qadcY1HT8ZiDwi6
URL:https://gsa.rutgers.edu/event/spar-semester-kickoff-meeting/
LOCATION:NJ
CATEGORIES:GSO Hosted
END:VEVENT
BEGIN:VEVENT
DTSTART;TZID=UTC:20210915T190000
DTEND;TZID=UTC:20210915T200000
DTSTAMP:20260420T092725
CREATED:20210913T134604Z
LAST-MODIFIED:20210913T134604Z
UID:925-1631732400-1631736000@gsa.rutgers.edu
SUMMARY:Returning to a New Normal: A Dinnertime Discussion
DESCRIPTION:Join GCF at Panico’s to get to know each other and enjoy good food! Safety comes first\, so do RSVP ru.graduate.christian@gmail.com so we can prepare for both food and caution. We’re so excited to talk about concerns as well as hopes this Wednesday at 7 PM as we return to campus!
URL:https://gsa.rutgers.edu/event/returning-to-a-new-normal-a-dinnertime-discussion/
LOCATION:NJ
CATEGORIES:GSO Hosted
END:VEVENT
END:VCALENDAR