BEGIN:VCALENDAR
VERSION:2.0
PRODID:-//Graduate Student Association - ECPv6.7.0//NONSGML v1.0//EN
CALSCALE:GREGORIAN
METHOD:PUBLISH
X-WR-CALNAME:Graduate Student Association
X-ORIGINAL-URL:https://gsa.rutgers.edu
X-WR-CALDESC:Events for Graduate Student Association
REFRESH-INTERVAL;VALUE=DURATION:PT1H
X-Robots-Tag:noindex
X-PUBLISHED-TTL:PT1H
BEGIN:VTIMEZONE
TZID:UTC
BEGIN:STANDARD
TZOFFSETFROM:+0000
TZOFFSETTO:+0000
TZNAME:UTC
DTSTART:20210101T000000
END:STANDARD
END:VTIMEZONE
BEGIN:VEVENT
DTSTART;VALUE=DATE:20210901
DTEND;VALUE=DATE:20210902
DTSTAMP:20260423T053008
CREATED:20210829T170346Z
LAST-MODIFIED:20210829T170346Z
UID:798-1630454400-1630540799@gsa.rutgers.edu
SUMMARY:Funding Applications Open
DESCRIPTION:https://gsa.rutgers.edu/for-gsos-2/2021-2022-ay-recognition-and-funding-application/
URL:https://gsa.rutgers.edu/event/funding-applications-open/
LOCATION:NJ
END:VEVENT
END:VCALENDAR